BEGIN:VCALENDAR
VERSION:2.0
PRODID:-//HBFAAA - ECPv6.15.20//NONSGML v1.0//EN
CALSCALE:GREGORIAN
METHOD:PUBLISH
X-ORIGINAL-URL:https://www.hbfaaa.org
X-WR-CALDESC:Events for HBFAAA
REFRESH-INTERVAL;VALUE=DURATION:PT1H
X-Robots-Tag:noindex
X-PUBLISHED-TTL:PT1H
BEGIN:VTIMEZONE
TZID:America/New_York
BEGIN:DAYLIGHT
TZOFFSETFROM:-0500
TZOFFSETTO:-0400
TZNAME:EDT
DTSTART:20240310T070000
END:DAYLIGHT
BEGIN:STANDARD
TZOFFSETFROM:-0400
TZOFFSETTO:-0500
TZNAME:EST
DTSTART:20241103T060000
END:STANDARD
BEGIN:DAYLIGHT
TZOFFSETFROM:-0500
TZOFFSETTO:-0400
TZNAME:EDT
DTSTART:20250309T070000
END:DAYLIGHT
BEGIN:STANDARD
TZOFFSETFROM:-0400
TZOFFSETTO:-0500
TZNAME:EST
DTSTART:20251102T060000
END:STANDARD
BEGIN:DAYLIGHT
TZOFFSETFROM:-0500
TZOFFSETTO:-0400
TZNAME:EDT
DTSTART:20260308T070000
END:DAYLIGHT
BEGIN:STANDARD
TZOFFSETFROM:-0400
TZOFFSETTO:-0500
TZNAME:EST
DTSTART:20261101T060000
END:STANDARD
END:VTIMEZONE
BEGIN:VEVENT
DTSTART;VALUE=DATE:20251110
DTEND;VALUE=DATE:20251115
DTSTAMP:20260424T105507
CREATED:20251030T122734Z
LAST-MODIFIED:20251030T122734Z
UID:10016866-1762732800-1763164799@www.hbfaaa.org
SUMMARY:CLOSED FOR RENOVATIONS
DESCRIPTION:
URL:https://www.hbfaaa.org/event/closed-for-renovations/
CATEGORIES:Warfordsburg Senior Center
END:VEVENT
BEGIN:VEVENT
DTSTART;VALUE=DATE:20251112
DTEND;VALUE=DATE:20251114
DTSTAMP:20260424T105507
CREATED:20251028T125730Z
LAST-MODIFIED:20251028T125730Z
UID:10016769-1762905600-1763078399@www.hbfaaa.org
SUMMARY:9-1:30 AARP Full driving course
DESCRIPTION:
URL:https://www.hbfaaa.org/event/9-130-aarp-full-driving-course/
CATEGORIES:Everett Senior Center
END:VEVENT
BEGIN:VEVENT
DTSTART;VALUE=DATE:20251113
DTEND;VALUE=DATE:20251114
DTSTAMP:20260424T105507
CREATED:20251020T145303Z
LAST-MODIFIED:20251020T145303Z
UID:10016733-1762992000-1763078399@www.hbfaaa.org
SUMMARY:Chicken Paprikash
DESCRIPTION:Chicken Paprikash\nw/ Creamy Tomato Sauce\n1/2c White Rice\n1/2c Roasted Brussel Sprouts\nWhole Wheat Bread\nApple Cake
URL:https://www.hbfaaa.org/event/chicken-paprikash-2/
CATEGORIES:Lunch Menu
END:VEVENT
BEGIN:VEVENT
DTSTART;VALUE=DATE:20251113
DTEND;VALUE=DATE:20251114
DTSTAMP:20260424T105507
CREATED:20251020T151807Z
LAST-MODIFIED:20251020T151807Z
UID:10016752-1762992000-1763078399@www.hbfaaa.org
SUMMARY:10:00 a.m. Mike Cober  Open Enrollment    12:30 p.m. Mah-jongg  12:30 Dominoes Club  12:30 p.m. Rummikub
DESCRIPTION:
URL:https://www.hbfaaa.org/event/1000-a-m-mike-cober-open-enrollment-1230-p-m-mah-jongg-1230-dominoes-club-1230-p-m-rummikub/
CATEGORIES:Bedford Senior Center
END:VEVENT
BEGIN:VEVENT
DTSTART;VALUE=DATE:20251113
DTEND;VALUE=DATE:20251114
DTSTAMP:20260424T105507
CREATED:20251028T125932Z
LAST-MODIFIED:20251028T125932Z
UID:10016773-1762992000-1763078399@www.hbfaaa.org
SUMMARY:10:00 Golf Card Game
DESCRIPTION:
URL:https://www.hbfaaa.org/event/1000-golf-card-game-3/
CATEGORIES:Everett Senior Center
END:VEVENT
BEGIN:VEVENT
DTSTART;VALUE=DATE:20251113
DTEND;VALUE=DATE:20251114
DTSTAMP:20260424T105507
CREATED:20251028T130933Z
LAST-MODIFIED:20251028T130933Z
UID:10016794-1762992000-1763078399@www.hbfaaa.org
SUMMARY:Blood Pressure &  Exercise w/Becky 11:00 AM
DESCRIPTION:
URL:https://www.hbfaaa.org/event/blood-pressure-exercise-w-becky-1100-am-9/
CATEGORIES:Hustontown Senior Center
END:VEVENT
BEGIN:VEVENT
DTSTART;VALUE=DATE:20251113
DTEND;VALUE=DATE:20251114
DTSTAMP:20260424T105507
CREATED:20251028T212627Z
LAST-MODIFIED:20251028T212627Z
UID:10016813-1762992000-1763078399@www.hbfaaa.org
SUMMARY:WILLS MT. CHURCH   FREE MEAL  Book Club & Game Day 10:30-11:30   BOARD MEETING @ 1:00
DESCRIPTION:
URL:https://www.hbfaaa.org/event/wills-mt-church-free-meal-book-club-game-day-1030-1130-board-meeting-100/
CATEGORIES:Hyndman Senior Center
END:VEVENT
BEGIN:VEVENT
DTSTART;VALUE=DATE:20251113
DTEND;VALUE=DATE:20251114
DTSTAMP:20260424T105507
CREATED:20251029T174455Z
LAST-MODIFIED:20251029T174455Z
UID:10016836-1762992000-1763078399@www.hbfaaa.org
SUMMARY:Bible Study 11:00 am
DESCRIPTION:
URL:https://www.hbfaaa.org/event/bible-study-1100-am-9/2025-11-13/
CATEGORIES:Hopewell Senior Center
END:VEVENT
BEGIN:VEVENT
DTSTART;VALUE=DATE:20251113
DTEND;VALUE=DATE:20251114
DTSTAMP:20260424T105507
CREATED:20251030T120026Z
LAST-MODIFIED:20251030T120026Z
UID:10016856-1762992000-1763078399@www.hbfaaa.org
SUMMARY:9:00 am -10:30 am Seniors encouraging Seniors with Calvary Christian Academy.  Thanksgiving Theme
DESCRIPTION:
URL:https://www.hbfaaa.org/event/900-am-1030-am-seniors-encouraging-seniors-with-calvary-christian-academy-thanksgiving-theme/
CATEGORIES:Standing Stone Senior Center
END:VEVENT
END:VCALENDAR