BEGIN:VCALENDAR
VERSION:2.0
PRODID:-//HBFAAA - ECPv6.15.20//NONSGML v1.0//EN
CALSCALE:GREGORIAN
METHOD:PUBLISH
X-WR-CALNAME:HBFAAA
X-ORIGINAL-URL:https://www.hbfaaa.org
X-WR-CALDESC:Events for HBFAAA
REFRESH-INTERVAL;VALUE=DURATION:PT1H
X-Robots-Tag:noindex
X-PUBLISHED-TTL:PT1H
BEGIN:VTIMEZONE
TZID:America/New_York
BEGIN:DAYLIGHT
TZOFFSETFROM:-0500
TZOFFSETTO:-0400
TZNAME:EDT
DTSTART:20250309T070000
END:DAYLIGHT
BEGIN:STANDARD
TZOFFSETFROM:-0400
TZOFFSETTO:-0500
TZNAME:EST
DTSTART:20251102T060000
END:STANDARD
BEGIN:DAYLIGHT
TZOFFSETFROM:-0500
TZOFFSETTO:-0400
TZNAME:EDT
DTSTART:20260308T070000
END:DAYLIGHT
BEGIN:STANDARD
TZOFFSETFROM:-0400
TZOFFSETTO:-0500
TZNAME:EST
DTSTART:20261101T060000
END:STANDARD
BEGIN:DAYLIGHT
TZOFFSETFROM:-0500
TZOFFSETTO:-0400
TZNAME:EDT
DTSTART:20270314T070000
END:DAYLIGHT
BEGIN:STANDARD
TZOFFSETFROM:-0400
TZOFFSETTO:-0500
TZNAME:EST
DTSTART:20271107T060000
END:STANDARD
END:VTIMEZONE
BEGIN:VEVENT
DTSTART;VALUE=DATE:20260422
DTEND;VALUE=DATE:20260423
DTSTAMP:20260422T013638
CREATED:20260325T123446Z
LAST-MODIFIED:20260325T123446Z
UID:10017919-1776816000-1776902399@www.hbfaaa.org
SUMMARY:3 oz salisbury steak w/ 2 oz gravy
DESCRIPTION:3 oz salisbury steak w/ 2 oz gravy\n1 baked potato\n1/2c mixed vegetable\n1 wheat bread\n1 cookie
URL:https://www.hbfaaa.org/event/3-oz-salisbury-steak-w-2-oz-gravy/
CATEGORIES:Lunch Menu
END:VEVENT
BEGIN:VEVENT
DTSTART;VALUE=DATE:20260422
DTEND;VALUE=DATE:20260423
DTSTAMP:20260422T013638
CREATED:20260325T131513Z
LAST-MODIFIED:20260325T131513Z
UID:10017941-1776816000-1776902399@www.hbfaaa.org
SUMMARY:Chess Nuts 9:00 a.m. - 2:00 p.m.  Visit to Hopewell Senior Center  State Travel Program    12:30 p.m. Canasta Card Club
DESCRIPTION:
URL:https://www.hbfaaa.org/event/chess-nuts-900-a-m-200-p-m-visit-to-hopewell-senior-center-state-travel-program-1230-p-m-canasta-card-club/
CATEGORIES:Bedford Senior Center
END:VEVENT
BEGIN:VEVENT
DTSTART;VALUE=DATE:20260422
DTEND;VALUE=DATE:20260423
DTSTAMP:20260422T013638
CREATED:20260325T134536Z
LAST-MODIFIED:20260325T134536Z
UID:10017965-1776816000-1776902399@www.hbfaaa.org
SUMMARY:9:00 Journey through Pennsylvania at the Hopewell SC
DESCRIPTION:
URL:https://www.hbfaaa.org/event/900-journey-through-pennsylvania-at-the-hopewell-sc/
CATEGORIES:Everett Senior Center
END:VEVENT
BEGIN:VEVENT
DTSTART;VALUE=DATE:20260422
DTEND;VALUE=DATE:20260423
DTSTAMP:20260422T013638
CREATED:20260325T141513Z
LAST-MODIFIED:20260325T141513Z
UID:10017987-1776816000-1776902399@www.hbfaaa.org
SUMMARY:8:45 TRIP TO HOPEWELL SR. CENTER
DESCRIPTION:
URL:https://www.hbfaaa.org/event/845-trip-to-hopewell-sr-center/
CATEGORIES:McConnellsburg Senior Center
END:VEVENT
BEGIN:VEVENT
DTSTART;VALUE=DATE:20260422
DTEND;VALUE=DATE:20260423
DTSTAMP:20260422T013638
CREATED:20260325T143124Z
LAST-MODIFIED:20260325T143124Z
UID:10018011-1776816000-1776902399@www.hbfaaa.org
SUMMARY:Bingo-10:30am  Cards/Games-12:30
DESCRIPTION:
URL:https://www.hbfaaa.org/event/bingo-1030am-cards-games-1230/2026-04-22/
CATEGORIES:Warfordsburg Senior Center
END:VEVENT
BEGIN:VEVENT
DTSTART;VALUE=DATE:20260422
DTEND;VALUE=DATE:20260423
DTSTAMP:20260422T013638
CREATED:20260330T153945Z
LAST-MODIFIED:20260330T153945Z
UID:10018036-1776816000-1776902399@www.hbfaaa.org
SUMMARY:TRIP HOPEWELL SR. CENTER
DESCRIPTION:
URL:https://www.hbfaaa.org/event/trip-hopewell-sr-center-2/
CATEGORIES:Hustontown Senior Center
END:VEVENT
BEGIN:VEVENT
DTSTART;VALUE=DATE:20260422
DTEND;VALUE=DATE:20260423
DTSTAMP:20260422T013638
CREATED:20260331T135529Z
LAST-MODIFIED:20260331T135529Z
UID:10018061-1776816000-1776902399@www.hbfaaa.org
SUMMARY:Exercise 9 a.m. Cards 9:30
DESCRIPTION:
URL:https://www.hbfaaa.org/event/exercise-9-a-m-cards-930-3/2026-04-22/
CATEGORIES:Broad Top Senior Center
END:VEVENT
BEGIN:VEVENT
DTSTART;VALUE=DATE:20260422
DTEND;VALUE=DATE:20260423
DTSTAMP:20260422T013638
CREATED:20260331T140324Z
LAST-MODIFIED:20260331T140324Z
UID:10018080-1776816000-1776902399@www.hbfaaa.org
SUMMARY:HOPEWELL SENIOR CENTER VISIT**
DESCRIPTION:
URL:https://www.hbfaaa.org/event/hopewell-senior-center-visit/
CATEGORIES:Broad Top Senior Center
END:VEVENT
BEGIN:VEVENT
DTSTART;VALUE=DATE:20260422
DTEND;VALUE=DATE:20260423
DTSTAMP:20260422T013638
CREATED:20260331T145333Z
LAST-MODIFIED:20260331T145333Z
UID:10018100-1776816000-1776902399@www.hbfaaa.org
SUMMARY:NICKEL BINGO 10:30-11:45  Exercise Available All Day  Puzzle Time 1:00-2:30
DESCRIPTION:
URL:https://www.hbfaaa.org/event/nickel-bingo-1030-1145-exercise-available-all-day-puzzle-time-100-230-12/2026-04-22/
CATEGORIES:Hyndman Senior Center
END:VEVENT
BEGIN:VEVENT
DTSTART;VALUE=DATE:20260422
DTEND;VALUE=DATE:20260423
DTSTAMP:20260422T013638
CREATED:20260410T122121Z
LAST-MODIFIED:20260410T122121Z
UID:10018125-1776816000-1776902399@www.hbfaaa.org
SUMMARY:10:00 am Earth Day Games with Marti Dombrowski
DESCRIPTION:
URL:https://www.hbfaaa.org/event/1000-am-earth-day-games-with-marti-dombrowski/
CATEGORIES:Standing Stone Senior Center
END:VEVENT
BEGIN:VEVENT
DTSTART;VALUE=DATE:20260422
DTEND;VALUE=DATE:20260423
DTSTAMP:20260422T013638
CREATED:20260410T123528Z
LAST-MODIFIED:20260410T123528Z
UID:10018145-1776816000-1776902399@www.hbfaaa.org
SUMMARY:Line Dancing Sign up of interested w/Standing Stone Kickers @10:30 am
DESCRIPTION:
URL:https://www.hbfaaa.org/event/line-dancing-sign-up-of-interested-w-standing-stone-kickers-1030-am/
CATEGORIES:Bricktown Senior Center
END:VEVENT
BEGIN:VEVENT
DTSTART;VALUE=DATE:20260422
DTEND;VALUE=DATE:20260423
DTSTAMP:20260422T013639
CREATED:20260410T132422Z
LAST-MODIFIED:20260410T132422Z
UID:10018174-1776816000-1776902399@www.hbfaaa.org
SUMMARY:ROAD TRIP TO HOPEWELL SENIOR CENTER PENNSYLVANIA DAY
DESCRIPTION:
URL:https://www.hbfaaa.org/event/road-trip-to-hopewell-senior-center-pennsylvania-day/
CATEGORIES:Juniata Valley Senior Center
END:VEVENT
BEGIN:VEVENT
DTSTART;VALUE=DATE:20260422
DTEND;VALUE=DATE:20260423
DTSTAMP:20260422T013639
CREATED:20260410T135732Z
LAST-MODIFIED:20260410T135732Z
UID:10018189-1776816000-1776902399@www.hbfaaa.org
SUMMARY:Craft @10 am
DESCRIPTION:
URL:https://www.hbfaaa.org/event/craft-10-am-9/
CATEGORIES:Three Springs Senior Center
END:VEVENT
END:VCALENDAR