BEGIN:VCALENDAR
VERSION:2.0
PRODID:-//HBFAAA - ECPv6.15.20//NONSGML v1.0//EN
CALSCALE:GREGORIAN
METHOD:PUBLISH
X-WR-CALNAME:HBFAAA
X-ORIGINAL-URL:https://www.hbfaaa.org
X-WR-CALDESC:Events for HBFAAA
REFRESH-INTERVAL;VALUE=DURATION:PT1H
X-Robots-Tag:noindex
X-PUBLISHED-TTL:PT1H
BEGIN:VTIMEZONE
TZID:America/New_York
BEGIN:DAYLIGHT
TZOFFSETFROM:-0500
TZOFFSETTO:-0400
TZNAME:EDT
DTSTART:20250309T070000
END:DAYLIGHT
BEGIN:STANDARD
TZOFFSETFROM:-0400
TZOFFSETTO:-0500
TZNAME:EST
DTSTART:20251102T060000
END:STANDARD
BEGIN:DAYLIGHT
TZOFFSETFROM:-0500
TZOFFSETTO:-0400
TZNAME:EDT
DTSTART:20260308T070000
END:DAYLIGHT
BEGIN:STANDARD
TZOFFSETFROM:-0400
TZOFFSETTO:-0500
TZNAME:EST
DTSTART:20261101T060000
END:STANDARD
BEGIN:DAYLIGHT
TZOFFSETFROM:-0500
TZOFFSETTO:-0400
TZNAME:EDT
DTSTART:20270314T070000
END:DAYLIGHT
BEGIN:STANDARD
TZOFFSETFROM:-0400
TZOFFSETTO:-0500
TZNAME:EST
DTSTART:20271107T060000
END:STANDARD
END:VTIMEZONE
BEGIN:VEVENT
DTSTART;VALUE=DATE:20260423
DTEND;VALUE=DATE:20260424
DTSTAMP:20260423T075238
CREATED:20260325T123953Z
LAST-MODIFIED:20260325T123953Z
UID:10017924-1776902400-1776988799@www.hbfaaa.org
SUMMARY:1/2c chicken salad sandwich
DESCRIPTION:1/2c chicken salad sandwich\n1/2c tomato cucumber salad\n1/2c macaroni salad\nhamburger bun\nfresh fruit
URL:https://www.hbfaaa.org/event/1-2c-chicken-salad-sandwich/
CATEGORIES:Lunch Menu
END:VEVENT
BEGIN:VEVENT
DTSTART;VALUE=DATE:20260423
DTEND;VALUE=DATE:20260424
DTSTAMP:20260423T075238
CREATED:20260325T132236Z
LAST-MODIFIED:20260325T132236Z
UID:10017946-1776902400-1776988799@www.hbfaaa.org
SUMMARY:Breakfast Club at UpTown Café  Leaving Center 8:45 a.m.  MEET US AT 9:00 A.M.  12:30 p.m. Mah-jong  12:30 p.m. Dominoes Club  12:30 Rummikub Club
DESCRIPTION:
URL:https://www.hbfaaa.org/event/breakfast-club-at-uptown-cafe-leaving-center-845-a-m-meet-us-at-900-a-m-1230-p-m-mah-jong-1230-p-m-dominoes-club-1230-rummikub-club/
CATEGORIES:Bedford Senior Center
END:VEVENT
BEGIN:VEVENT
DTSTART;VALUE=DATE:20260423
DTEND;VALUE=DATE:20260424
DTSTAMP:20260423T075238
CREATED:20260325T134914Z
LAST-MODIFIED:20260325T134914Z
UID:10017970-1776902400-1776988799@www.hbfaaa.org
SUMMARY:9:00 Golf Card Game 11:00 Fraud Prevention Part 2
DESCRIPTION:
URL:https://www.hbfaaa.org/event/900-golf-card-game-1100-fraud-prevention-part-2/
CATEGORIES:Everett Senior Center
END:VEVENT
BEGIN:VEVENT
DTSTART;VALUE=DATE:20260423
DTEND;VALUE=DATE:20260424
DTSTAMP:20260423T075238
CREATED:20260325T141839Z
LAST-MODIFIED:20260325T141839Z
UID:10017992-1776902400-1776988799@www.hbfaaa.org
SUMMARY:PRESENTATION 10:30 PA HEALTH AND WELLNESS AND BINGO
DESCRIPTION:
URL:https://www.hbfaaa.org/event/presentation-1030-pa-health-and-wellness-and-bingo/
CATEGORIES:McConnellsburg Senior Center
END:VEVENT
BEGIN:VEVENT
DTSTART;VALUE=DATE:20260423
DTEND;VALUE=DATE:20260424
DTSTAMP:20260423T075238
CREATED:20260325T143435Z
LAST-MODIFIED:20260325T143435Z
UID:10018017-1776902400-1776988799@www.hbfaaa.org
SUMMARY:10:30 am Bible Study w Pastor Dick Bernhard
DESCRIPTION:
URL:https://www.hbfaaa.org/event/1030-am-bible-study-w-pastor-dick-bernhard-5/2026-04-23/
CATEGORIES:Warfordsburg Senior Center
END:VEVENT
BEGIN:VEVENT
DTSTART;VALUE=DATE:20260423
DTEND;VALUE=DATE:20260424
DTSTAMP:20260423T075238
CREATED:20260325T143608Z
LAST-MODIFIED:20260325T143608Z
UID:10018020-1776902400-1776988799@www.hbfaaa.org
SUMMARY:AAA meeting
DESCRIPTION:
URL:https://www.hbfaaa.org/event/aaa-meeting/
CATEGORIES:Warfordsburg Senior Center
END:VEVENT
BEGIN:VEVENT
DTSTART;VALUE=DATE:20260423
DTEND;VALUE=DATE:20260424
DTSTAMP:20260423T075238
CREATED:20260330T154559Z
LAST-MODIFIED:20260330T154559Z
UID:10018041-1776902400-1776988799@www.hbfaaa.org
SUMMARY:GOSPEL STRINGS 11:00 AM
DESCRIPTION:
URL:https://www.hbfaaa.org/event/gospel-strings-1100-am-6/
CATEGORIES:Hustontown Senior Center
END:VEVENT
BEGIN:VEVENT
DTSTART;VALUE=DATE:20260423
DTEND;VALUE=DATE:20260424
DTSTAMP:20260423T075238
CREATED:20260331T135529Z
LAST-MODIFIED:20260331T135529Z
UID:10018062-1776902400-1776988799@www.hbfaaa.org
SUMMARY:Exercise 9 a.m. Cards 9:30
DESCRIPTION:
URL:https://www.hbfaaa.org/event/exercise-9-a-m-cards-930-3/2026-04-23/
CATEGORIES:Broad Top Senior Center
END:VEVENT
BEGIN:VEVENT
DTSTART;VALUE=DATE:20260423
DTEND;VALUE=DATE:20260424
DTSTAMP:20260423T075238
CREATED:20260331T140833Z
LAST-MODIFIED:20260331T140833Z
UID:10018084-1776902400-1776988799@www.hbfaaa.org
SUMMARY:Nutrition Class 11
DESCRIPTION:
URL:https://www.hbfaaa.org/event/nutrition-class-11-2/
CATEGORIES:Broad Top Senior Center
END:VEVENT
BEGIN:VEVENT
DTSTART;VALUE=DATE:20260423
DTEND;VALUE=DATE:20260424
DTSTAMP:20260423T075238
CREATED:20260331T150734Z
LAST-MODIFIED:20260331T150922Z
UID:10018107-1776902400-1776988799@www.hbfaaa.org
SUMMARY:Current Events 9:30-10:15   Chair Exercises 10:30-11:00          Puzzle Time 1:00-2:30
DESCRIPTION:
URL:https://www.hbfaaa.org/event/current-events-930-1015-chair-exercises-1030-1100-puzzle-time-100-230/2026-04-23/
CATEGORIES:Hyndman Senior Center
END:VEVENT
BEGIN:VEVENT
DTSTART;VALUE=DATE:20260423
DTEND;VALUE=DATE:20260424
DTSTAMP:20260423T075238
CREATED:20260410T122406Z
LAST-MODIFIED:20260410T122406Z
UID:10018128-1776902400-1776988799@www.hbfaaa.org
SUMMARY:9:00 am Seniors Encouraging Seniors with Calvary Christian Academy.  “Resurrection Because He Lives.”
DESCRIPTION:
URL:https://www.hbfaaa.org/event/900-am-seniors-encouraging-seniors-with-calvary-christian-academy-resurrection-because-he-lives/
CATEGORIES:Standing Stone Senior Center
END:VEVENT
BEGIN:VEVENT
DTSTART;VALUE=DATE:20260423
DTEND;VALUE=DATE:20260424
DTSTAMP:20260423T075238
CREATED:20260410T124019Z
LAST-MODIFIED:20260410T124019Z
UID:10018150-1776902400-1776988799@www.hbfaaa.org
SUMMARY:Nutrition Class @10 am
DESCRIPTION:
URL:https://www.hbfaaa.org/event/nutrition-class-10-am-11/
CATEGORIES:Bricktown Senior Center
END:VEVENT
BEGIN:VEVENT
DTSTART;VALUE=DATE:20260423
DTEND;VALUE=DATE:20260424
DTSTAMP:20260423T075238
CREATED:20260410T131156Z
LAST-MODIFIED:20260410T131156Z
UID:10018159-1776902400-1776988799@www.hbfaaa.org
SUMMARY:BINGO DAY 10-11:45
DESCRIPTION:
URL:https://www.hbfaaa.org/event/bingo-day-10-1145-23/2026-04-23/
CATEGORIES:Juniata Valley Senior Center
END:VEVENT
BEGIN:VEVENT
DTSTART;VALUE=DATE:20260423
DTEND;VALUE=DATE:20260424
DTSTAMP:20260423T075238
CREATED:20260410T131645Z
LAST-MODIFIED:20260410T131645Z
UID:10018167-1776902400-1776988799@www.hbfaaa.org
SUMMARY:EXERCISE DAY 12:30
DESCRIPTION:
URL:https://www.hbfaaa.org/event/exercise-day-1230-4/2026-04-23/
CATEGORIES:Juniata Valley Senior Center
END:VEVENT
BEGIN:VEVENT
DTSTART;VALUE=DATE:20260423
DTEND;VALUE=DATE:20260424
DTSTAMP:20260423T075238
CREATED:20260410T140233Z
LAST-MODIFIED:20260410T140233Z
UID:10018194-1776902400-1776988799@www.hbfaaa.org
SUMMARY:Activity Table @ 10 am
DESCRIPTION:
URL:https://www.hbfaaa.org/event/activity-table-10-am-2/
CATEGORIES:Three Springs Senior Center
END:VEVENT
END:VCALENDAR