BEGIN:VCALENDAR
VERSION:2.0
PRODID:-//HBFAAA - ECPv6.15.20//NONSGML v1.0//EN
CALSCALE:GREGORIAN
METHOD:PUBLISH
X-WR-CALNAME:HBFAAA
X-ORIGINAL-URL:https://www.hbfaaa.org
X-WR-CALDESC:Events for HBFAAA
REFRESH-INTERVAL;VALUE=DURATION:PT1H
X-Robots-Tag:noindex
X-PUBLISHED-TTL:PT1H
BEGIN:VTIMEZONE
TZID:America/New_York
BEGIN:DAYLIGHT
TZOFFSETFROM:-0500
TZOFFSETTO:-0400
TZNAME:EDT
DTSTART:20220313T070000
END:DAYLIGHT
BEGIN:STANDARD
TZOFFSETFROM:-0400
TZOFFSETTO:-0500
TZNAME:EST
DTSTART:20221106T060000
END:STANDARD
BEGIN:DAYLIGHT
TZOFFSETFROM:-0500
TZOFFSETTO:-0400
TZNAME:EDT
DTSTART:20230312T070000
END:DAYLIGHT
BEGIN:STANDARD
TZOFFSETFROM:-0400
TZOFFSETTO:-0500
TZNAME:EST
DTSTART:20231105T060000
END:STANDARD
BEGIN:DAYLIGHT
TZOFFSETFROM:-0500
TZOFFSETTO:-0400
TZNAME:EDT
DTSTART:20240310T070000
END:DAYLIGHT
BEGIN:STANDARD
TZOFFSETFROM:-0400
TZOFFSETTO:-0500
TZNAME:EST
DTSTART:20241103T060000
END:STANDARD
END:VTIMEZONE
BEGIN:VEVENT
DTSTART;VALUE=DATE:20230201
DTEND;VALUE=DATE:20230202
DTSTAMP:20260421T172638
CREATED:20230127T142740Z
LAST-MODIFIED:20230127T142740Z
UID:10002507-1675209600-1675295999@www.hbfaaa.org
SUMMARY:Board Member’s Meeting  @ 10 am & 12:40 pm
DESCRIPTION:
URL:https://www.hbfaaa.org/event/board-members-meeting-10-am-1240-pm/
CATEGORIES:Bricktown Senior Center
END:VEVENT
BEGIN:VEVENT
DTSTART;VALUE=DATE:20230202
DTEND;VALUE=DATE:20230203
DTSTAMP:20260421T172638
CREATED:20230127T142939Z
LAST-MODIFIED:20230127T142939Z
UID:10002518-1675296000-1675382399@www.hbfaaa.org
SUMMARY:9:30 am:  Ground Hog Day Breakfast Sign up
DESCRIPTION:
URL:https://www.hbfaaa.org/event/930-am-ground-hog-day-breakfast-sign-up/
CATEGORIES:Bricktown Senior Center
END:VEVENT
BEGIN:VEVENT
DTSTART;VALUE=DATE:20230203
DTEND;VALUE=DATE:20230204
DTSTAMP:20260421T172638
CREATED:20230127T143046Z
LAST-MODIFIED:20230127T143046Z
UID:10002524-1675382400-1675468799@www.hbfaaa.org
SUMMARY:10 am: Family Care Home Health Agency
DESCRIPTION:
URL:https://www.hbfaaa.org/event/10-am-family-care-home-health-agency/
CATEGORIES:Bricktown Senior Center
END:VEVENT
BEGIN:VEVENT
DTSTART;VALUE=DATE:20230206
DTEND;VALUE=DATE:20230207
DTSTAMP:20260421T172638
CREATED:20230127T141706Z
LAST-MODIFIED:20230328T135200Z
UID:10003746-1675641600-1675727999@www.hbfaaa.org
SUMMARY:10 am: Bingo
DESCRIPTION:
URL:https://www.hbfaaa.org/event/10-am-bingo/2023-02-06/
CATEGORIES:Bricktown Senior Center
END:VEVENT
BEGIN:VEVENT
DTSTART;VALUE=DATE:20230207
DTEND;VALUE=DATE:20230208
DTSTAMP:20260421T172638
CREATED:20230127T142406Z
LAST-MODIFIED:20230127T142406Z
UID:10003754-1675728000-1675814399@www.hbfaaa.org
SUMMARY:11 am: Meditation Class
DESCRIPTION:
URL:https://www.hbfaaa.org/event/11-am-meditation-class/
CATEGORIES:Bricktown Senior Center
END:VEVENT
BEGIN:VEVENT
DTSTART;VALUE=DATE:20230207
DTEND;VALUE=DATE:20230208
DTSTAMP:20260421T172638
CREATED:20230127T142432Z
LAST-MODIFIED:20230127T142432Z
UID:10003755-1675728000-1675814399@www.hbfaaa.org
SUMMARY:1pm – 2:30: Eye Care
DESCRIPTION:
URL:https://www.hbfaaa.org/event/1pm-230-eye-care/
CATEGORIES:Bricktown Senior Center
END:VEVENT
BEGIN:VEVENT
DTSTART;VALUE=DATE:20230207
DTEND;VALUE=DATE:20230208
DTSTAMP:20260421T172638
CREATED:20230127T142451Z
LAST-MODIFIED:20230127T142451Z
UID:10003756-1675728000-1675814399@www.hbfaaa.org
SUMMARY:1:30: Ice cream Social
DESCRIPTION:
URL:https://www.hbfaaa.org/event/130-ice-cream-social/
CATEGORIES:Bricktown Senior Center
END:VEVENT
BEGIN:VEVENT
DTSTART;VALUE=DATE:20230207
DTEND;VALUE=DATE:20230208
DTSTAMP:20260421T172638
CREATED:20230127T142525Z
LAST-MODIFIED:20230328T135258Z
UID:10003757-1675728000-1675814399@www.hbfaaa.org
SUMMARY:2:30: Wii Bowling
DESCRIPTION:
URL:https://www.hbfaaa.org/event/230-wii-bowling/2023-02-07/
CATEGORIES:Bricktown Senior Center
END:VEVENT
BEGIN:VEVENT
DTSTART;VALUE=DATE:20230208
DTEND;VALUE=DATE:20230209
DTSTAMP:20260421T172638
CREATED:20230127T142756Z
LAST-MODIFIED:20230127T142756Z
UID:10002509-1675814400-1675900799@www.hbfaaa.org
SUMMARY:National Boy Scout Day
DESCRIPTION:
URL:https://www.hbfaaa.org/event/national-boy-scout-day/
CATEGORIES:Bricktown Senior Center
END:VEVENT
BEGIN:VEVENT
DTSTART;VALUE=DATE:20230208
DTEND;VALUE=DATE:20230209
DTSTAMP:20260421T172638
CREATED:20230127T142814Z
LAST-MODIFIED:20230127T142814Z
UID:10002511-1675814400-1675900799@www.hbfaaa.org
SUMMARY:10 am: Making valentine cards for nursing home residents
DESCRIPTION:
URL:https://www.hbfaaa.org/event/10-am-making-valentine-cards-for-nursing-home-residents/
CATEGORIES:Bricktown Senior Center
END:VEVENT
BEGIN:VEVENT
DTSTART;VALUE=DATE:20230210
DTEND;VALUE=DATE:20230211
DTSTAMP:20260421T172638
CREATED:20230127T143105Z
LAST-MODIFIED:20230127T143105Z
UID:10003768-1675987200-1676073599@www.hbfaaa.org
SUMMARY:10 am: Crazy Bingo
DESCRIPTION:
URL:https://www.hbfaaa.org/event/10-am-crazy-bingo/
CATEGORIES:Bricktown Senior Center
END:VEVENT
BEGIN:VEVENT
DTSTART;VALUE=DATE:20230210
DTEND;VALUE=DATE:20230211
DTSTAMP:20260421T172638
CREATED:20230127T143123Z
LAST-MODIFIED:20230127T143123Z
UID:10003769-1675987200-1676073599@www.hbfaaa.org
SUMMARY:10:45 am: UPMC/ BP Reading
DESCRIPTION:
URL:https://www.hbfaaa.org/event/1045-am-upmc-bp-reading/
CATEGORIES:Bricktown Senior Center
END:VEVENT
BEGIN:VEVENT
DTSTART;VALUE=DATE:20230213
DTEND;VALUE=DATE:20230214
DTSTAMP:20260421T172638
CREATED:20230127T141706Z
LAST-MODIFIED:20230328T135200Z
UID:10003747-1676246400-1676332799@www.hbfaaa.org
SUMMARY:10 am: Bingo
DESCRIPTION:
URL:https://www.hbfaaa.org/event/10-am-bingo/2023-02-13/
CATEGORIES:Bricktown Senior Center
END:VEVENT
BEGIN:VEVENT
DTSTART;VALUE=DATE:20230214
DTEND;VALUE=DATE:20230215
DTSTAMP:20260421T172638
CREATED:20230127T142525Z
LAST-MODIFIED:20230328T135258Z
UID:10003758-1676332800-1676419199@www.hbfaaa.org
SUMMARY:2:30: Wii Bowling
DESCRIPTION:
URL:https://www.hbfaaa.org/event/230-wii-bowling/2023-02-14/
CATEGORIES:Bricktown Senior Center
END:VEVENT
BEGIN:VEVENT
DTSTART;VALUE=DATE:20230214
DTEND;VALUE=DATE:20230215
DTSTAMP:20260421T172638
CREATED:20230127T142551Z
LAST-MODIFIED:20230127T142551Z
UID:10003765-1676332800-1676419199@www.hbfaaa.org
SUMMARY:10 am: Valentine’s Day Party  Sign up by 1/10/23
DESCRIPTION:
URL:https://www.hbfaaa.org/event/10-am-valentines-day-party-sign-up-by-1-10-23/
CATEGORIES:Bricktown Senior Center
END:VEVENT
BEGIN:VEVENT
DTSTART;VALUE=DATE:20230215
DTEND;VALUE=DATE:20230216
DTSTAMP:20260421T172638
CREATED:20230127T142831Z
LAST-MODIFIED:20230127T142831Z
UID:10002513-1676419200-1676505599@www.hbfaaa.org
SUMMARY:8:30 am: Onion Day
DESCRIPTION:
URL:https://www.hbfaaa.org/event/830-am-onion-day/
CATEGORIES:Bricktown Senior Center
END:VEVENT
BEGIN:VEVENT
DTSTART;VALUE=DATE:20230216
DTEND;VALUE=DATE:20230217
DTSTAMP:20260421T172638
CREATED:20230127T143001Z
LAST-MODIFIED:20230127T143001Z
UID:10002520-1676505600-1676591999@www.hbfaaa.org
SUMMARY:7 am: Hoagie Day
DESCRIPTION:
URL:https://www.hbfaaa.org/event/7-am-hoagie-day/
CATEGORIES:Bricktown Senior Center
END:VEVENT
BEGIN:VEVENT
DTSTART;VALUE=DATE:20230217
DTEND;VALUE=DATE:20230218
DTSTAMP:20260421T172638
CREATED:20230127T143143Z
LAST-MODIFIED:20230127T143143Z
UID:10003770-1676592000-1676678399@www.hbfaaa.org
SUMMARY:10 am: Random Acts of Kindness Day Help us spread cheer to others
DESCRIPTION:
URL:https://www.hbfaaa.org/event/10-am-random-acts-of-kindness-day-help-us-spread-cheer-to-others/
CATEGORIES:Bricktown Senior Center
END:VEVENT
BEGIN:VEVENT
DTSTART;VALUE=DATE:20230220
DTEND;VALUE=DATE:20230221
DTSTAMP:20260421T172638
CREATED:20230127T141732Z
LAST-MODIFIED:20230127T141732Z
UID:10003753-1676851200-1676937599@www.hbfaaa.org
SUMMARY:President’s Day Center Closed
DESCRIPTION:
URL:https://www.hbfaaa.org/event/presidents-day-center-closed-3/
CATEGORIES:Bricktown Senior Center
END:VEVENT
BEGIN:VEVENT
DTSTART;VALUE=DATE:20230221
DTEND;VALUE=DATE:20230222
DTSTAMP:20260421T172638
CREATED:20230127T142525Z
LAST-MODIFIED:20230328T135258Z
UID:10003759-1676937600-1677023999@www.hbfaaa.org
SUMMARY:2:30: Wii Bowling
DESCRIPTION:
URL:https://www.hbfaaa.org/event/230-wii-bowling/2023-02-21/
CATEGORIES:Bricktown Senior Center
END:VEVENT
BEGIN:VEVENT
DTSTART;VALUE=DATE:20230221
DTEND;VALUE=DATE:20230222
DTSTAMP:20260421T172638
CREATED:20230127T142612Z
LAST-MODIFIED:20230127T142612Z
UID:10003766-1676937600-1677023999@www.hbfaaa.org
SUMMARY:10 am: Card Craft w/Barb: Sign up
DESCRIPTION:
URL:https://www.hbfaaa.org/event/10-am-card-craft-w-barb-sign-up/
CATEGORIES:Bricktown Senior Center
END:VEVENT
BEGIN:VEVENT
DTSTART;VALUE=DATE:20230222
DTEND;VALUE=DATE:20230223
DTSTAMP:20260421T172638
CREATED:20230127T142849Z
LAST-MODIFIED:20230127T142849Z
UID:10002515-1677024000-1677110399@www.hbfaaa.org
SUMMARY:National Margarita Day
DESCRIPTION:
URL:https://www.hbfaaa.org/event/national-margarita-day/
CATEGORIES:Bricktown Senior Center
END:VEVENT
BEGIN:VEVENT
DTSTART;VALUE=DATE:20230222
DTEND;VALUE=DATE:20230223
DTSTAMP:20260421T172638
CREATED:20230127T142910Z
LAST-MODIFIED:20230127T142910Z
UID:10002516-1677024000-1677110399@www.hbfaaa.org
SUMMARY:10 am: Join us in sampling different kinds of non- alcoholic margaritas
DESCRIPTION:
URL:https://www.hbfaaa.org/event/10-am-join-us-in-sampling-different-kinds-of-non-alcoholic-margaritas/
CATEGORIES:Bricktown Senior Center
END:VEVENT
BEGIN:VEVENT
DTSTART;VALUE=DATE:20230223
DTEND;VALUE=DATE:20230224
DTSTAMP:20260421T172639
CREATED:20230127T143020Z
LAST-MODIFIED:20230127T143020Z
UID:10002522-1677110400-1677196799@www.hbfaaa.org
SUMMARY:Shopping trip Details TBD
DESCRIPTION:
URL:https://www.hbfaaa.org/event/shopping-trip-details-tbd/
CATEGORIES:Bricktown Senior Center
END:VEVENT
BEGIN:VEVENT
DTSTART;VALUE=DATE:20230224
DTEND;VALUE=DATE:20230225
DTSTAMP:20260421T172639
CREATED:20230127T143204Z
LAST-MODIFIED:20230127T143204Z
UID:10003771-1677196800-1677283199@www.hbfaaa.org
SUMMARY:12 pm: Potluck  Sign up @ center
DESCRIPTION:
URL:https://www.hbfaaa.org/event/12-pm-potluck-sign-up-center/
CATEGORIES:Bricktown Senior Center
END:VEVENT
BEGIN:VEVENT
DTSTART;VALUE=DATE:20230227
DTEND;VALUE=DATE:20230228
DTSTAMP:20260421T172639
CREATED:20230127T141706Z
LAST-MODIFIED:20230328T135200Z
UID:10003748-1677456000-1677542399@www.hbfaaa.org
SUMMARY:10 am: Bingo
DESCRIPTION:
URL:https://www.hbfaaa.org/event/10-am-bingo/2023-02-27/
CATEGORIES:Bricktown Senior Center
END:VEVENT
BEGIN:VEVENT
DTSTART;VALUE=DATE:20230228
DTEND;VALUE=DATE:20230301
DTSTAMP:20260421T172639
CREATED:20230127T142525Z
LAST-MODIFIED:20230328T135258Z
UID:10003760-1677542400-1677628799@www.hbfaaa.org
SUMMARY:2:30: Wii Bowling
DESCRIPTION:
URL:https://www.hbfaaa.org/event/230-wii-bowling/2023-02-28/
CATEGORIES:Bricktown Senior Center
END:VEVENT
BEGIN:VEVENT
DTSTART;VALUE=DATE:20230228
DTEND;VALUE=DATE:20230301
DTSTAMP:20260421T172639
CREATED:20230127T142631Z
LAST-MODIFIED:20230127T142631Z
UID:10003767-1677542400-1677628799@www.hbfaaa.org
SUMMARY:10 am: Craft– Sign up
DESCRIPTION:
URL:https://www.hbfaaa.org/event/10-am-craft-sign-up/
CATEGORIES:Bricktown Senior Center
END:VEVENT
END:VCALENDAR