BEGIN:VCALENDAR
VERSION:2.0
PRODID:-//HBFAAA - ECPv6.15.20//NONSGML v1.0//EN
CALSCALE:GREGORIAN
METHOD:PUBLISH
X-WR-CALNAME:HBFAAA
X-ORIGINAL-URL:https://www.hbfaaa.org
X-WR-CALDESC:Events for HBFAAA
REFRESH-INTERVAL;VALUE=DURATION:PT1H
X-Robots-Tag:noindex
X-PUBLISHED-TTL:PT1H
BEGIN:VTIMEZONE
TZID:America/New_York
BEGIN:DAYLIGHT
TZOFFSETFROM:-0500
TZOFFSETTO:-0400
TZNAME:EDT
DTSTART:20220313T070000
END:DAYLIGHT
BEGIN:STANDARD
TZOFFSETFROM:-0400
TZOFFSETTO:-0500
TZNAME:EST
DTSTART:20221106T060000
END:STANDARD
BEGIN:DAYLIGHT
TZOFFSETFROM:-0500
TZOFFSETTO:-0400
TZNAME:EDT
DTSTART:20230312T070000
END:DAYLIGHT
BEGIN:STANDARD
TZOFFSETFROM:-0400
TZOFFSETTO:-0500
TZNAME:EST
DTSTART:20231105T060000
END:STANDARD
BEGIN:DAYLIGHT
TZOFFSETFROM:-0500
TZOFFSETTO:-0400
TZNAME:EDT
DTSTART:20240310T070000
END:DAYLIGHT
BEGIN:STANDARD
TZOFFSETFROM:-0400
TZOFFSETTO:-0500
TZNAME:EST
DTSTART:20241103T060000
END:STANDARD
END:VTIMEZONE
BEGIN:VEVENT
DTSTART;VALUE=DATE:20230403
DTEND;VALUE=DATE:20230404
DTSTAMP:20260421T105848
CREATED:20230328T135028Z
LAST-MODIFIED:20230328T135028Z
UID:10007059-1680480000-1680566399@www.hbfaaa.org
SUMMARY:10 a.m.:  Craft Class
DESCRIPTION:
URL:https://www.hbfaaa.org/event/10-a-m-craft-class/
CATEGORIES:Bricktown Senior Center
END:VEVENT
BEGIN:VEVENT
DTSTART;VALUE=DATE:20230404
DTEND;VALUE=DATE:20230405
DTSTAMP:20260421T105848
CREATED:20230328T135539Z
LAST-MODIFIED:20230502T155642Z
UID:10007063-1680566400-1680652799@www.hbfaaa.org
SUMMARY:9:30 a.m.:   Bible Study
DESCRIPTION:
URL:https://www.hbfaaa.org/event/930-a-m-bible-study/2023-04-04/
CATEGORIES:Bricktown Senior Center
END:VEVENT
BEGIN:VEVENT
DTSTART;VALUE=DATE:20230405
DTEND;VALUE=DATE:20230406
DTSTAMP:20260421T105848
CREATED:20230328T135609Z
LAST-MODIFIED:20230328T135609Z
UID:10007067-1680652800-1680739199@www.hbfaaa.org
SUMMARY:10 a.m.:   Bingo
DESCRIPTION:
URL:https://www.hbfaaa.org/event/10-a-m-bingo/
CATEGORIES:Bricktown Senior Center
END:VEVENT
BEGIN:VEVENT
DTSTART;VALUE=DATE:20230407
DTEND;VALUE=DATE:20230408
DTSTAMP:20260421T105848
CREATED:20230328T140400Z
LAST-MODIFIED:20230328T140400Z
UID:10007076-1680825600-1680911999@www.hbfaaa.org
SUMMARY:Good Friday-CLOSED
DESCRIPTION:
URL:https://www.hbfaaa.org/event/good-friday-closed-2/
CATEGORIES:Bricktown Senior Center
END:VEVENT
BEGIN:VEVENT
DTSTART;VALUE=DATE:20230410
DTEND;VALUE=DATE:20230411
DTSTAMP:20260421T105848
CREATED:20230328T135355Z
LAST-MODIFIED:20230328T135355Z
UID:10007060-1681084800-1681171199@www.hbfaaa.org
SUMMARY:Trip to Living Water Church
DESCRIPTION:
URL:https://www.hbfaaa.org/event/trip-to-living-water-church-3/
CATEGORIES:Bricktown Senior Center
END:VEVENT
BEGIN:VEVENT
DTSTART;VALUE=DATE:20230411
DTEND;VALUE=DATE:20230412
DTSTAMP:20260421T105848
CREATED:20230328T135539Z
LAST-MODIFIED:20230502T155642Z
UID:10007064-1681171200-1681257599@www.hbfaaa.org
SUMMARY:9:30 a.m.:   Bible Study
DESCRIPTION:
URL:https://www.hbfaaa.org/event/930-a-m-bible-study/2023-04-11/
CATEGORIES:Bricktown Senior Center
END:VEVENT
BEGIN:VEVENT
DTSTART;VALUE=DATE:20230412
DTEND;VALUE=DATE:20230413
DTSTAMP:20260421T105848
CREATED:20230328T135632Z
LAST-MODIFIED:20230328T135632Z
UID:10007068-1681257600-1681343999@www.hbfaaa.org
SUMMARY:10:30 a.m.:  Nutrition Awareness Class
DESCRIPTION:
URL:https://www.hbfaaa.org/event/1030-a-m-nutrition-awareness-class/
CATEGORIES:Bricktown Senior Center
END:VEVENT
BEGIN:VEVENT
DTSTART;VALUE=DATE:20230413
DTEND;VALUE=DATE:20230414
DTSTAMP:20260421T105848
CREATED:20230328T140145Z
LAST-MODIFIED:20230328T140145Z
UID:10007071-1681344000-1681430399@www.hbfaaa.org
SUMMARY:9:45 a.m.:   UPMC Blood Pressure Screening
DESCRIPTION:
URL:https://www.hbfaaa.org/event/945-a-m-upmc-blood-pressure-screening/
CATEGORIES:Bricktown Senior Center
END:VEVENT
BEGIN:VEVENT
DTSTART;VALUE=DATE:20230413
DTEND;VALUE=DATE:20230414
DTSTAMP:20260421T105848
CREATED:20230328T140211Z
LAST-MODIFIED:20230328T140211Z
UID:10007072-1681344000-1681430399@www.hbfaaa.org
SUMMARY:10 a.m.:  National Scrablle Day: Come in and Play Scrabble
DESCRIPTION:
URL:https://www.hbfaaa.org/event/10-a-m-national-scrablle-day-come-in-and-play-scrabble/
CATEGORIES:Bricktown Senior Center
END:VEVENT
BEGIN:VEVENT
DTSTART;VALUE=DATE:20230414
DTEND;VALUE=DATE:20230415
DTSTAMP:20260421T105848
CREATED:20230328T140454Z
LAST-MODIFIED:20230328T140454Z
UID:10007077-1681430400-1681516799@www.hbfaaa.org
SUMMARY:10:30 a.m. to 11:30 a.m.: Live music with Ron Miller and Wanda Wood
DESCRIPTION:sign up at center\nleave at 10 a.m.
URL:https://www.hbfaaa.org/event/1030-a-m-to-1130-a-m-live-music-with-ron-miller-and-wanda-wood/
CATEGORIES:Bricktown Senior Center
END:VEVENT
BEGIN:VEVENT
DTSTART;VALUE=DATE:20230417
DTEND;VALUE=DATE:20230418
DTSTAMP:20260421T105848
CREATED:20230328T135429Z
LAST-MODIFIED:20230328T135429Z
UID:10007061-1681689600-1681775999@www.hbfaaa.org
SUMMARY:10 a.m.:  Patriot's Day
DESCRIPTION:Come and make a patriotic star wreath.
URL:https://www.hbfaaa.org/event/10-a-m-patriots-day/
CATEGORIES:Bricktown Senior Center
END:VEVENT
BEGIN:VEVENT
DTSTART;VALUE=DATE:20230418
DTEND;VALUE=DATE:20230419
DTSTAMP:20260421T105848
CREATED:20230328T135539Z
LAST-MODIFIED:20230502T155642Z
UID:10007065-1681776000-1681862399@www.hbfaaa.org
SUMMARY:9:30 a.m.:   Bible Study
DESCRIPTION:
URL:https://www.hbfaaa.org/event/930-a-m-bible-study/2023-04-18/
CATEGORIES:Bricktown Senior Center
END:VEVENT
BEGIN:VEVENT
DTSTART;VALUE=DATE:20230419
DTEND;VALUE=DATE:20230420
DTSTAMP:20260421T105848
CREATED:20230328T135703Z
LAST-MODIFIED:20230328T135703Z
UID:10007069-1681862400-1681948799@www.hbfaaa.org
SUMMARY:10 a.m.:   National Banana Day
DESCRIPTION:Sign up at the center
URL:https://www.hbfaaa.org/event/10-a-m-national-banana-day/
CATEGORIES:Bricktown Senior Center
END:VEVENT
BEGIN:VEVENT
DTSTART;VALUE=DATE:20230420
DTEND;VALUE=DATE:20230421
DTSTAMP:20260421T105848
CREATED:20230328T140244Z
LAST-MODIFIED:20230328T140244Z
UID:10007073-1681948800-1682035199@www.hbfaaa.org
SUMMARY:10 a.m.:   Senior Expo at Smithfield Fire Hall
DESCRIPTION:Sign up at Center
URL:https://www.hbfaaa.org/event/10-a-m-senior-expo-at-smithfield-fire-hall/
CATEGORIES:Bricktown Senior Center
END:VEVENT
BEGIN:VEVENT
DTSTART;VALUE=DATE:20230421
DTEND;VALUE=DATE:20230422
DTSTAMP:20260421T105848
CREATED:20230328T140533Z
LAST-MODIFIED:20230328T140533Z
UID:10007078-1682035200-1682121599@www.hbfaaa.org
SUMMARY:10:30 a.m.-11:30 a.m.: Live music with Bernie and Brenda Runk
DESCRIPTION:sign up at center\nleave at 10 a.m.
URL:https://www.hbfaaa.org/event/1030-a-m-1130-a-m-live-music-with-bernie-and-brenda-runk/
CATEGORIES:Bricktown Senior Center
END:VEVENT
BEGIN:VEVENT
DTSTART;VALUE=DATE:20230424
DTEND;VALUE=DATE:20230425
DTSTAMP:20260421T105848
CREATED:20230328T135504Z
LAST-MODIFIED:20230328T135504Z
UID:10007062-1682294400-1682380799@www.hbfaaa.org
SUMMARY:10 a.m.:  Make and Take
DESCRIPTION:
URL:https://www.hbfaaa.org/event/10-a-m-make-and-take/
CATEGORIES:Bricktown Senior Center
END:VEVENT
BEGIN:VEVENT
DTSTART;VALUE=DATE:20230425
DTEND;VALUE=DATE:20230426
DTSTAMP:20260421T105848
CREATED:20230328T135539Z
LAST-MODIFIED:20230502T155642Z
UID:10007066-1682380800-1682467199@www.hbfaaa.org
SUMMARY:9:30 a.m.:   Bible Study
DESCRIPTION:
URL:https://www.hbfaaa.org/event/930-a-m-bible-study/2023-04-25/
CATEGORIES:Bricktown Senior Center
END:VEVENT
BEGIN:VEVENT
DTSTART;VALUE=DATE:20230426
DTEND;VALUE=DATE:20230427
DTSTAMP:20260421T105848
CREATED:20230328T135723Z
LAST-MODIFIED:20230328T135723Z
UID:10007070-1682467200-1682553599@www.hbfaaa.org
SUMMARY:Trip:  Check center for details
DESCRIPTION:
URL:https://www.hbfaaa.org/event/trip-check-center-for-details/
CATEGORIES:Bricktown Senior Center
END:VEVENT
BEGIN:VEVENT
DTSTART;VALUE=DATE:20230427
DTEND;VALUE=DATE:20230428
DTSTAMP:20260421T105848
CREATED:20230328T140339Z
LAST-MODIFIED:20230328T140339Z
UID:10007074-1682553600-1682639999@www.hbfaaa.org
SUMMARY:10 a.m.:  Healthy Steps for Older Adults
DESCRIPTION:Sign Up At Centers at Bricktown
URL:https://www.hbfaaa.org/event/10-a-m-healthy-steps-for-older-adults/2023-04-27/
CATEGORIES:Bricktown Senior Center
END:VEVENT
BEGIN:VEVENT
DTSTART;VALUE=DATE:20230428
DTEND;VALUE=DATE:20230429
DTSTAMP:20260421T105848
CREATED:20230328T140339Z
LAST-MODIFIED:20230328T140339Z
UID:10007075-1682640000-1682726399@www.hbfaaa.org
SUMMARY:10 a.m.:  Healthy Steps for Older Adults
DESCRIPTION:Sign Up At Centers at Bricktown
URL:https://www.hbfaaa.org/event/10-a-m-healthy-steps-for-older-adults/2023-04-28/
CATEGORIES:Bricktown Senior Center
END:VEVENT
END:VCALENDAR