BEGIN:VCALENDAR
VERSION:2.0
PRODID:-//HBFAAA - ECPv6.15.20//NONSGML v1.0//EN
CALSCALE:GREGORIAN
METHOD:PUBLISH
X-WR-CALNAME:HBFAAA
X-ORIGINAL-URL:https://www.hbfaaa.org
X-WR-CALDESC:Events for HBFAAA
REFRESH-INTERVAL;VALUE=DURATION:PT1H
X-Robots-Tag:noindex
X-PUBLISHED-TTL:PT1H
BEGIN:VTIMEZONE
TZID:America/New_York
BEGIN:DAYLIGHT
TZOFFSETFROM:-0500
TZOFFSETTO:-0400
TZNAME:EDT
DTSTART:20220313T070000
END:DAYLIGHT
BEGIN:STANDARD
TZOFFSETFROM:-0400
TZOFFSETTO:-0500
TZNAME:EST
DTSTART:20221106T060000
END:STANDARD
BEGIN:DAYLIGHT
TZOFFSETFROM:-0500
TZOFFSETTO:-0400
TZNAME:EDT
DTSTART:20230312T070000
END:DAYLIGHT
BEGIN:STANDARD
TZOFFSETFROM:-0400
TZOFFSETTO:-0500
TZNAME:EST
DTSTART:20231105T060000
END:STANDARD
BEGIN:DAYLIGHT
TZOFFSETFROM:-0500
TZOFFSETTO:-0400
TZNAME:EDT
DTSTART:20240310T070000
END:DAYLIGHT
BEGIN:STANDARD
TZOFFSETFROM:-0400
TZOFFSETTO:-0500
TZNAME:EST
DTSTART:20241103T060000
END:STANDARD
END:VTIMEZONE
BEGIN:VEVENT
DTSTART;VALUE=DATE:20230503
DTEND;VALUE=DATE:20230504
DTSTAMP:20260421T140603
CREATED:20230502T160111Z
LAST-MODIFIED:20230502T160111Z
UID:10007968-1683072000-1683158399@www.hbfaaa.org
SUMMARY:Board Member’s Meeting @ 10 am Reg Meeting @ 12:40 pm Tea Party @ 2 pm – 4 pm  RSVP April 26th – Cost: $ 10
DESCRIPTION:
URL:https://www.hbfaaa.org/event/board-members-meeting-10-am-reg-meeting-1240-pm-tea-party-2-pm-4-pm-rsvp-april-26th-cost-10/
CATEGORIES:Bricktown Senior Center
END:VEVENT
END:VCALENDAR