BEGIN:VCALENDAR
VERSION:2.0
PRODID:-//HBFAAA - ECPv6.15.20//NONSGML v1.0//EN
CALSCALE:GREGORIAN
METHOD:PUBLISH
X-WR-CALNAME:HBFAAA
X-ORIGINAL-URL:https://www.hbfaaa.org
X-WR-CALDESC:Events for HBFAAA
REFRESH-INTERVAL;VALUE=DURATION:PT1H
X-Robots-Tag:noindex
X-PUBLISHED-TTL:PT1H
BEGIN:VTIMEZONE
TZID:America/New_York
BEGIN:DAYLIGHT
TZOFFSETFROM:-0500
TZOFFSETTO:-0400
TZNAME:EDT
DTSTART:20240310T070000
END:DAYLIGHT
BEGIN:STANDARD
TZOFFSETFROM:-0400
TZOFFSETTO:-0500
TZNAME:EST
DTSTART:20241103T060000
END:STANDARD
BEGIN:DAYLIGHT
TZOFFSETFROM:-0500
TZOFFSETTO:-0400
TZNAME:EDT
DTSTART:20250309T070000
END:DAYLIGHT
BEGIN:STANDARD
TZOFFSETFROM:-0400
TZOFFSETTO:-0500
TZNAME:EST
DTSTART:20251102T060000
END:STANDARD
BEGIN:DAYLIGHT
TZOFFSETFROM:-0500
TZOFFSETTO:-0400
TZNAME:EDT
DTSTART:20260308T070000
END:DAYLIGHT
BEGIN:STANDARD
TZOFFSETFROM:-0400
TZOFFSETTO:-0500
TZNAME:EST
DTSTART:20261101T060000
END:STANDARD
BEGIN:DAYLIGHT
TZOFFSETFROM:-0500
TZOFFSETTO:-0400
TZNAME:EDT
DTSTART:20270314T070000
END:DAYLIGHT
BEGIN:STANDARD
TZOFFSETFROM:-0400
TZOFFSETTO:-0500
TZNAME:EST
DTSTART:20271107T060000
END:STANDARD
END:VTIMEZONE
BEGIN:VEVENT
DTSTART;VALUE=DATE:20260406
DTEND;VALUE=DATE:20260407
DTSTAMP:20260421T140545
CREATED:20260410T122851Z
LAST-MODIFIED:20260410T122851Z
UID:10018137-1775433600-1775519999@www.hbfaaa.org
SUMMARY:Ice Cream Social @ 12:30 pm
DESCRIPTION:
URL:https://www.hbfaaa.org/event/ice-cream-social-1230-pm/
CATEGORIES:Bricktown Senior Center
END:VEVENT
BEGIN:VEVENT
DTSTART;VALUE=DATE:20260406
DTEND;VALUE=DATE:20260407
DTSTAMP:20260421T140545
CREATED:20260410T122807Z
LAST-MODIFIED:20260410T122807Z
UID:10018133-1775433600-1775519999@www.hbfaaa.org
SUMMARY:Bingo @ 10 am
DESCRIPTION:
URL:https://www.hbfaaa.org/event/bingo-10-am-28/2026-04-06/
CATEGORIES:Bricktown Senior Center
END:VEVENT
BEGIN:VEVENT
DTSTART;VALUE=DATE:20260402
DTEND;VALUE=DATE:20260403
DTSTAMP:20260421T140545
CREATED:20260410T123822Z
LAST-MODIFIED:20260410T123822Z
UID:10018147-1775088000-1775174399@www.hbfaaa.org
SUMMARY:Crazy Bingo @ 10 am
DESCRIPTION:
URL:https://www.hbfaaa.org/event/crazy-bingo-10-am-12/
CATEGORIES:Bricktown Senior Center
END:VEVENT
BEGIN:VEVENT
DTSTART;VALUE=DATE:20260401
DTEND;VALUE=DATE:20260402
DTSTAMP:20260421T140545
CREATED:20260410T123333Z
LAST-MODIFIED:20260410T123333Z
UID:10018142-1775001600-1775087999@www.hbfaaa.org
SUMMARY:Board Members Meeting @10 am Easter Meal @ noon - Sign up asap
DESCRIPTION:
URL:https://www.hbfaaa.org/event/board-members-meeting-10-am-easter-meal-noon-sign-up-asap/
CATEGORIES:Bricktown Senior Center
END:VEVENT
BEGIN:VEVENT
DTSTART;VALUE=DATE:20260130
DTEND;VALUE=DATE:20260131
DTSTAMP:20260421T140545
CREATED:20260115T140919Z
LAST-MODIFIED:20260115T140919Z
UID:10017391-1769731200-1769817599@www.hbfaaa.org
SUMMARY:Trip Center Closed
DESCRIPTION:
URL:https://www.hbfaaa.org/event/trip-center-closed-2/
CATEGORIES:Bricktown Senior Center
END:VEVENT
BEGIN:VEVENT
DTSTART;VALUE=DATE:20260129
DTEND;VALUE=DATE:20260130
DTSTAMP:20260421T140545
CREATED:20260115T140614Z
LAST-MODIFIED:20260115T140614Z
UID:10017386-1769644800-1769731199@www.hbfaaa.org
SUMMARY:Craft @ 10 am
DESCRIPTION:
URL:https://www.hbfaaa.org/event/craft-10-am-8/
CATEGORIES:Bricktown Senior Center
END:VEVENT
BEGIN:VEVENT
DTSTART;VALUE=DATE:20260128
DTEND;VALUE=DATE:20260129
DTSTAMP:20260421T140545
CREATED:20260115T135042Z
LAST-MODIFIED:20260115T135042Z
UID:10017382-1769558400-1769644799@www.hbfaaa.org
SUMMARY:Line Dancing w/ Standing Stone Kickers @ 10:30 am
DESCRIPTION:
URL:https://www.hbfaaa.org/event/line-dancing-w-standing-stone-kickers-1030-am-5/
CATEGORIES:Bricktown Senior Center
END:VEVENT
BEGIN:VEVENT
DTSTART;VALUE=DATE:20260127
DTEND;VALUE=DATE:20260128
DTSTAMP:20260421T140545
CREATED:20260115T134807Z
LAST-MODIFIED:20260115T134807Z
UID:10017378-1769472000-1769558399@www.hbfaaa.org
SUMMARY:Breakfast @ Checkers @ 10 am - Sign up pls Wii Bowling @ 2:30 pm
DESCRIPTION:
URL:https://www.hbfaaa.org/event/breakfast-checkers-10-am-sign-up-pls-wii-bowling-230-pm/
CATEGORIES:Bricktown Senior Center
END:VEVENT
BEGIN:VEVENT
DTSTART;VALUE=DATE:20260126
DTEND;VALUE=DATE:20260127
DTSTAMP:20260421T140545
CREATED:20260115T133645Z
LAST-MODIFIED:20260115T133645Z
UID:10017374-1769385600-1769471999@www.hbfaaa.org
SUMMARY:Bingo @ 10 am
DESCRIPTION:
URL:https://www.hbfaaa.org/event/bingo-10-am-27/2026-01-26/
CATEGORIES:Bricktown Senior Center
END:VEVENT
BEGIN:VEVENT
DTSTART;VALUE=DATE:20260123
DTEND;VALUE=DATE:20260124
DTSTAMP:20260421T140545
CREATED:20260115T140854Z
LAST-MODIFIED:20260115T140854Z
UID:10017390-1769126400-1769212799@www.hbfaaa.org
SUMMARY:Potluck
DESCRIPTION:
URL:https://www.hbfaaa.org/event/potluck-3/
CATEGORIES:Bricktown Senior Center
END:VEVENT
BEGIN:VEVENT
DTSTART;VALUE=DATE:20260122
DTEND;VALUE=DATE:20260123
DTSTAMP:20260421T140545
CREATED:20260115T140605Z
LAST-MODIFIED:20260115T140605Z
UID:10017385-1769040000-1769126399@www.hbfaaa.org
SUMMARY:Hot Cocoa Bar @ 9:30 am
DESCRIPTION:
URL:https://www.hbfaaa.org/event/hot-cocoa-bar-930-am-2/
CATEGORIES:Bricktown Senior Center
END:VEVENT
BEGIN:VEVENT
DTSTART;VALUE=DATE:20260121
DTEND;VALUE=DATE:20260122
DTSTAMP:20260421T140545
CREATED:20260115T135025Z
LAST-MODIFIED:20260115T135025Z
UID:10017381-1768953600-1769039999@www.hbfaaa.org
SUMMARY:Nutrition Class @ 10 am
DESCRIPTION:
URL:https://www.hbfaaa.org/event/nutrition-class-10-am-9/
CATEGORIES:Bricktown Senior Center
END:VEVENT
BEGIN:VEVENT
DTSTART;VALUE=DATE:20260120
DTEND;VALUE=DATE:20260121
DTSTAMP:20260421T140545
CREATED:20260115T134744Z
LAST-MODIFIED:20260115T134744Z
UID:10017377-1768867200-1768953599@www.hbfaaa.org
SUMMARY:Card Craft w/Barb @ 10 am Sign up @ center
DESCRIPTION:
URL:https://www.hbfaaa.org/event/card-craft-w-barb-10-am-sign-up-center/
CATEGORIES:Bricktown Senior Center
END:VEVENT
BEGIN:VEVENT
DTSTART;VALUE=DATE:20260116
DTEND;VALUE=DATE:20260117
DTSTAMP:20260421T140545
CREATED:20260115T140841Z
LAST-MODIFIED:20260115T140841Z
UID:10017389-1768521600-1768607999@www.hbfaaa.org
SUMMARY:Crazy Bingo @ 10 am
DESCRIPTION:
URL:https://www.hbfaaa.org/event/crazy-bingo-10-am-11/
CATEGORIES:Bricktown Senior Center
END:VEVENT
BEGIN:VEVENT
DTSTART;VALUE=DATE:20260115
DTEND;VALUE=DATE:20260116
DTSTAMP:20260421T140546
CREATED:20260115T140550Z
LAST-MODIFIED:20260115T140550Z
UID:10017384-1768435200-1768521599@www.hbfaaa.org
SUMMARY:Hoagie Day @ 7 am
DESCRIPTION:
URL:https://www.hbfaaa.org/event/hoagie-day-7-am-9/
CATEGORIES:Bricktown Senior Center
END:VEVENT
BEGIN:VEVENT
DTSTART;VALUE=DATE:20260114
DTEND;VALUE=DATE:20260115
DTSTAMP:20260421T140546
CREATED:20260115T135012Z
LAST-MODIFIED:20260115T135012Z
UID:10017380-1768348800-1768435199@www.hbfaaa.org
SUMMARY:Onion Day @ 9 am
DESCRIPTION:
URL:https://www.hbfaaa.org/event/onion-day-9-am-2/
CATEGORIES:Bricktown Senior Center
END:VEVENT
BEGIN:VEVENT
DTSTART;VALUE=DATE:20260113
DTEND;VALUE=DATE:20260114
DTSTAMP:20260421T140546
CREATED:20260115T134729Z
LAST-MODIFIED:20260115T134729Z
UID:10017376-1768262400-1768348799@www.hbfaaa.org
SUMMARY:Trivia @10 am  Wii Bowling @ 2:30 pm
DESCRIPTION:
URL:https://www.hbfaaa.org/event/trivia-10-am-wii-bowling-230-pm/
CATEGORIES:Bricktown Senior Center
END:VEVENT
BEGIN:VEVENT
DTSTART;VALUE=DATE:20260112
DTEND;VALUE=DATE:20260113
DTSTAMP:20260421T140546
CREATED:20260115T133645Z
LAST-MODIFIED:20260115T133645Z
UID:10017373-1768176000-1768262399@www.hbfaaa.org
SUMMARY:Bingo @ 10 am
DESCRIPTION:
URL:https://www.hbfaaa.org/event/bingo-10-am-27/2026-01-12/
CATEGORIES:Bricktown Senior Center
END:VEVENT
BEGIN:VEVENT
DTSTART;VALUE=DATE:20260109
DTEND;VALUE=DATE:20260110
DTSTAMP:20260421T140546
CREATED:20260115T140830Z
LAST-MODIFIED:20260115T140830Z
UID:10017388-1767916800-1768003199@www.hbfaaa.org
SUMMARY:Live Music Country Thunder @ 6-9 pm
DESCRIPTION:
URL:https://www.hbfaaa.org/event/live-music-country-thunder-6-9-pm/
CATEGORIES:Bricktown Senior Center
END:VEVENT
BEGIN:VEVENT
DTSTART;VALUE=DATE:20260108
DTEND;VALUE=DATE:20260109
DTSTAMP:20260421T140546
CREATED:20260115T140350Z
LAST-MODIFIED:20260115T140350Z
UID:10017383-1767830400-1767916799@www.hbfaaa.org
SUMMARY:French Toast @ 9:30 am
DESCRIPTION:
URL:https://www.hbfaaa.org/event/french-toast-930-am/
CATEGORIES:Bricktown Senior Center
END:VEVENT
BEGIN:VEVENT
DTSTART;VALUE=DATE:20260107
DTEND;VALUE=DATE:20260108
DTSTAMP:20260421T140546
CREATED:20260115T134856Z
LAST-MODIFIED:20260115T134856Z
UID:10017379-1767744000-1767830399@www.hbfaaa.org
SUMMARY:Board Member's Meeting @ 10 am
DESCRIPTION:
URL:https://www.hbfaaa.org/event/board-members-meeting-10-am-8/
CATEGORIES:Bricktown Senior Center
END:VEVENT
BEGIN:VEVENT
DTSTART;VALUE=DATE:20260106
DTEND;VALUE=DATE:20260107
DTSTAMP:20260421T140546
CREATED:20260115T133807Z
LAST-MODIFIED:20260115T133807Z
UID:10017375-1767657600-1767743999@www.hbfaaa.org
SUMMARY:Wii Bowling @ 2:30 pm Hoagie Orders Due
DESCRIPTION:
URL:https://www.hbfaaa.org/event/wii-bowling-230-pm-hoagie-orders-due/
CATEGORIES:Bricktown Senior Center
END:VEVENT
BEGIN:VEVENT
DTSTART;VALUE=DATE:20260105
DTEND;VALUE=DATE:20260106
DTSTAMP:20260421T140546
CREATED:20260115T133645Z
LAST-MODIFIED:20260115T133645Z
UID:10017372-1767571200-1767657599@www.hbfaaa.org
SUMMARY:Bingo @ 10 am
DESCRIPTION:
URL:https://www.hbfaaa.org/event/bingo-10-am-27/2026-01-05/
CATEGORIES:Bricktown Senior Center
END:VEVENT
BEGIN:VEVENT
DTSTART;VALUE=DATE:20260102
DTEND;VALUE=DATE:20260103
DTSTAMP:20260421T140546
CREATED:20260115T140712Z
LAST-MODIFIED:20260115T140712Z
UID:10017387-1767312000-1767398399@www.hbfaaa.org
SUMMARY:Live Music w. Wanda Wood @ 10:30 am
DESCRIPTION:
URL:https://www.hbfaaa.org/event/live-music-w-wanda-wood-1030-am-6/
CATEGORIES:Bricktown Senior Center
END:VEVENT
BEGIN:VEVENT
DTSTART;VALUE=DATE:20251231
DTEND;VALUE=DATE:20260101
DTSTAMP:20260421T140546
CREATED:20251126T133605Z
LAST-MODIFIED:20251126T133605Z
UID:10017025-1767139200-1767225599@www.hbfaaa.org
SUMMARY:Crazy Bingo @ 10 am
DESCRIPTION:
URL:https://www.hbfaaa.org/event/crazy-bingo-10-am-10/
CATEGORIES:Bricktown Senior Center
END:VEVENT
BEGIN:VEVENT
DTSTART;VALUE=DATE:20251230
DTEND;VALUE=DATE:20251231
DTSTAMP:20260421T140546
CREATED:20251126T133208Z
LAST-MODIFIED:20251126T133208Z
UID:10017017-1767052800-1767139199@www.hbfaaa.org
SUMMARY:Wii Bowling @ 2:30 pm
DESCRIPTION:
URL:https://www.hbfaaa.org/event/wii-bowling-230-pm-3/
CATEGORIES:Bricktown Senior Center
END:VEVENT
BEGIN:VEVENT
DTSTART;VALUE=DATE:20251229
DTEND;VALUE=DATE:20251230
DTSTAMP:20260421T140546
CREATED:20251126T132559Z
LAST-MODIFIED:20251126T132559Z
UID:10017014-1766966400-1767052799@www.hbfaaa.org
SUMMARY:Bingo @ 10 am
DESCRIPTION:
URL:https://www.hbfaaa.org/event/bingo-10-am-19/2025-12-29/
CATEGORIES:Bricktown Senior Center
END:VEVENT
BEGIN:VEVENT
DTSTART;VALUE=DATE:20251225
DTEND;VALUE=DATE:20251227
DTSTAMP:20260421T140546
CREATED:20251126T133942Z
LAST-MODIFIED:20251126T133942Z
UID:10017027-1766620800-1766793599@www.hbfaaa.org
SUMMARY:Closed for Christmas
DESCRIPTION:
URL:https://www.hbfaaa.org/event/closed-for-christmas-25/
CATEGORIES:Bricktown Senior Center
END:VEVENT
BEGIN:VEVENT
DTSTART;VALUE=DATE:20251224
DTEND;VALUE=DATE:20251225
DTSTAMP:20260421T140546
CREATED:20251126T133555Z
LAST-MODIFIED:20251126T133555Z
UID:10017024-1766534400-1766620799@www.hbfaaa.org
SUMMARY:Line Dancing w/Standing Stone Kickers @ 10:30 am
DESCRIPTION:
URL:https://www.hbfaaa.org/event/line-dancing-w-standing-stone-kickers-1030-am-4/
CATEGORIES:Bricktown Senior Center
END:VEVENT
BEGIN:VEVENT
DTSTART;VALUE=DATE:20251223
DTEND;VALUE=DATE:20251224
DTSTAMP:20260421T140546
CREATED:20251126T133316Z
LAST-MODIFIED:20251126T133316Z
UID:10017020-1766448000-1766534399@www.hbfaaa.org
SUMMARY:Christmas Party @ 10am-2pm Sign up pls
DESCRIPTION:
URL:https://www.hbfaaa.org/event/christmas-party-10am-2pm-sign-up-pls/
CATEGORIES:Bricktown Senior Center
END:VEVENT
END:VCALENDAR