BEGIN:VCALENDAR
VERSION:2.0
PRODID:-//HBFAAA - ECPv6.15.20//NONSGML v1.0//EN
CALSCALE:GREGORIAN
METHOD:PUBLISH
X-WR-CALNAME:HBFAAA
X-ORIGINAL-URL:https://www.hbfaaa.org
X-WR-CALDESC:Events for HBFAAA
REFRESH-INTERVAL;VALUE=DURATION:PT1H
X-Robots-Tag:noindex
X-PUBLISHED-TTL:PT1H
BEGIN:VTIMEZONE
TZID:America/New_York
BEGIN:DAYLIGHT
TZOFFSETFROM:-0500
TZOFFSETTO:-0400
TZNAME:EDT
DTSTART:20240310T070000
END:DAYLIGHT
BEGIN:STANDARD
TZOFFSETFROM:-0400
TZOFFSETTO:-0500
TZNAME:EST
DTSTART:20241103T060000
END:STANDARD
BEGIN:DAYLIGHT
TZOFFSETFROM:-0500
TZOFFSETTO:-0400
TZNAME:EDT
DTSTART:20250309T070000
END:DAYLIGHT
BEGIN:STANDARD
TZOFFSETFROM:-0400
TZOFFSETTO:-0500
TZNAME:EST
DTSTART:20251102T060000
END:STANDARD
BEGIN:DAYLIGHT
TZOFFSETFROM:-0500
TZOFFSETTO:-0400
TZNAME:EDT
DTSTART:20260308T070000
END:DAYLIGHT
BEGIN:STANDARD
TZOFFSETFROM:-0400
TZOFFSETTO:-0500
TZNAME:EST
DTSTART:20261101T060000
END:STANDARD
END:VTIMEZONE
BEGIN:VEVENT
DTSTART;VALUE=DATE:20251103
DTEND;VALUE=DATE:20251104
DTSTAMP:20260425T081438
CREATED:20251029T173655Z
LAST-MODIFIED:20251029T173655Z
UID:10016819-1762128000-1762214399@www.hbfaaa.org
SUMMARY:Bingo - 9:00 am
DESCRIPTION:
URL:https://www.hbfaaa.org/event/bingo-900-am-14/2025-11-03/
CATEGORIES:Hopewell Senior Center
END:VEVENT
BEGIN:VEVENT
DTSTART;VALUE=DATE:20251105
DTEND;VALUE=DATE:20251106
DTSTAMP:20260425T081438
CREATED:20251029T173655Z
LAST-MODIFIED:20251029T173655Z
UID:10016820-1762300800-1762387199@www.hbfaaa.org
SUMMARY:Bingo - 9:00 am
DESCRIPTION:
URL:https://www.hbfaaa.org/event/bingo-900-am-14/2025-11-05/
CATEGORIES:Hopewell Senior Center
END:VEVENT
BEGIN:VEVENT
DTSTART;VALUE=DATE:20251105
DTEND;VALUE=DATE:20251106
DTSTAMP:20260425T081438
CREATED:20251029T173950Z
LAST-MODIFIED:20251029T173950Z
UID:10016830-1762300800-1762387199@www.hbfaaa.org
SUMMARY:Board Meeting 10:00 am
DESCRIPTION:
URL:https://www.hbfaaa.org/event/board-meeting-1000-am-12/
CATEGORIES:Hopewell Senior Center
END:VEVENT
BEGIN:VEVENT
DTSTART;VALUE=DATE:20251106
DTEND;VALUE=DATE:20251107
DTSTAMP:20260425T081438
CREATED:20251029T174455Z
LAST-MODIFIED:20251029T174455Z
UID:10016835-1762387200-1762473599@www.hbfaaa.org
SUMMARY:Bible Study 11:00 am
DESCRIPTION:
URL:https://www.hbfaaa.org/event/bible-study-1100-am-9/2025-11-06/
CATEGORIES:Hopewell Senior Center
END:VEVENT
BEGIN:VEVENT
DTSTART;VALUE=DATE:20251107
DTEND;VALUE=DATE:20251108
DTSTAMP:20260425T081438
CREATED:20251029T174329Z
LAST-MODIFIED:20251029T174329Z
UID:10016833-1762473600-1762559999@www.hbfaaa.org
SUMMARY:Inglis Home Presentation 11:00 am Medicare Open Enrollment Outreach Program 10am-1pm
DESCRIPTION:
URL:https://www.hbfaaa.org/event/inglis-home-presentation-1100-am-medicare-open-enrollment-outreach-program-10am-1pm/
CATEGORIES:Hopewell Senior Center
END:VEVENT
BEGIN:VEVENT
DTSTART;VALUE=DATE:20251107
DTEND;VALUE=DATE:20251108
DTSTAMP:20260425T081438
CREATED:20251029T174612Z
LAST-MODIFIED:20251029T174612Z
UID:10016841-1762473600-1762559999@www.hbfaaa.org
SUMMARY:In House Meal 12:00 pm
DESCRIPTION:
URL:https://www.hbfaaa.org/event/in-house-meal-1200-pm-18/2025-11-07/
CATEGORIES:Hopewell Senior Center
END:VEVENT
BEGIN:VEVENT
DTSTART;VALUE=DATE:20251110
DTEND;VALUE=DATE:20251111
DTSTAMP:20260425T081438
CREATED:20251029T173655Z
LAST-MODIFIED:20251029T173655Z
UID:10016821-1762732800-1762819199@www.hbfaaa.org
SUMMARY:Bingo - 9:00 am
DESCRIPTION:
URL:https://www.hbfaaa.org/event/bingo-900-am-14/2025-11-10/
CATEGORIES:Hopewell Senior Center
END:VEVENT
BEGIN:VEVENT
DTSTART;VALUE=DATE:20251111
DTEND;VALUE=DATE:20251112
DTSTAMP:20260425T081438
CREATED:20251029T173916Z
LAST-MODIFIED:20251029T173916Z
UID:10016828-1762819200-1762905599@www.hbfaaa.org
SUMMARY:Center Closed
DESCRIPTION:
URL:https://www.hbfaaa.org/event/center-closed-15/
CATEGORIES:Hopewell Senior Center
END:VEVENT
BEGIN:VEVENT
DTSTART;VALUE=DATE:20251112
DTEND;VALUE=DATE:20251113
DTSTAMP:20260425T081438
CREATED:20251029T173655Z
LAST-MODIFIED:20251029T173655Z
UID:10016822-1762905600-1762991999@www.hbfaaa.org
SUMMARY:Bingo - 9:00 am
DESCRIPTION:
URL:https://www.hbfaaa.org/event/bingo-900-am-14/2025-11-12/
CATEGORIES:Hopewell Senior Center
END:VEVENT
BEGIN:VEVENT
DTSTART;VALUE=DATE:20251112
DTEND;VALUE=DATE:20251113
DTSTAMP:20260425T081438
CREATED:20251029T174044Z
LAST-MODIFIED:20251029T174044Z
UID:10016831-1762905600-1762991999@www.hbfaaa.org
SUMMARY:Presentation w/ Marty from CILS 10:30 am
DESCRIPTION:
URL:https://www.hbfaaa.org/event/presentation-w-marty-from-cils-1030-am/
CATEGORIES:Hopewell Senior Center
END:VEVENT
BEGIN:VEVENT
DTSTART;VALUE=DATE:20251113
DTEND;VALUE=DATE:20251114
DTSTAMP:20260425T081438
CREATED:20251029T174455Z
LAST-MODIFIED:20251029T174455Z
UID:10016836-1762992000-1763078399@www.hbfaaa.org
SUMMARY:Bible Study 11:00 am
DESCRIPTION:
URL:https://www.hbfaaa.org/event/bible-study-1100-am-9/2025-11-13/
CATEGORIES:Hopewell Senior Center
END:VEVENT
BEGIN:VEVENT
DTSTART;VALUE=DATE:20251114
DTEND;VALUE=DATE:20251115
DTSTAMP:20260425T081438
CREATED:20251029T174612Z
LAST-MODIFIED:20251029T174612Z
UID:10016842-1763078400-1763164799@www.hbfaaa.org
SUMMARY:In House Meal 12:00 pm
DESCRIPTION:
URL:https://www.hbfaaa.org/event/in-house-meal-1200-pm-18/2025-11-14/
CATEGORIES:Hopewell Senior Center
END:VEVENT
BEGIN:VEVENT
DTSTART;VALUE=DATE:20251117
DTEND;VALUE=DATE:20251118
DTSTAMP:20260425T081438
CREATED:20251029T173655Z
LAST-MODIFIED:20251029T173655Z
UID:10016823-1763337600-1763423999@www.hbfaaa.org
SUMMARY:Bingo - 9:00 am
DESCRIPTION:
URL:https://www.hbfaaa.org/event/bingo-900-am-14/2025-11-17/
CATEGORIES:Hopewell Senior Center
END:VEVENT
BEGIN:VEVENT
DTSTART;VALUE=DATE:20251118
DTEND;VALUE=DATE:20251119
DTSTAMP:20260425T081438
CREATED:20251029T173925Z
LAST-MODIFIED:20251029T173925Z
UID:10016829-1763424000-1763510399@www.hbfaaa.org
SUMMARY:Onion Day 9:00 am
DESCRIPTION:
URL:https://www.hbfaaa.org/event/onion-day-900-am-3/
CATEGORIES:Hopewell Senior Center
END:VEVENT
BEGIN:VEVENT
DTSTART;VALUE=DATE:20251119
DTEND;VALUE=DATE:20251120
DTSTAMP:20260425T081438
CREATED:20251029T173655Z
LAST-MODIFIED:20251029T173655Z
UID:10016824-1763510400-1763596799@www.hbfaaa.org
SUMMARY:Bingo - 9:00 am
DESCRIPTION:
URL:https://www.hbfaaa.org/event/bingo-900-am-14/2025-11-19/
CATEGORIES:Hopewell Senior Center
END:VEVENT
BEGIN:VEVENT
DTSTART;VALUE=DATE:20251119
DTEND;VALUE=DATE:20251120
DTSTAMP:20260425T081438
CREATED:20251029T174203Z
LAST-MODIFIED:20251029T174203Z
UID:10016832-1763510400-1763596799@www.hbfaaa.org
SUMMARY:Hoagie Making Day 6:00 am
DESCRIPTION:
URL:https://www.hbfaaa.org/event/hoagie-making-day-600-am-2/
CATEGORIES:Hopewell Senior Center
END:VEVENT
BEGIN:VEVENT
DTSTART;VALUE=DATE:20251120
DTEND;VALUE=DATE:20251121
DTSTAMP:20260425T081438
CREATED:20251029T174455Z
LAST-MODIFIED:20251029T174455Z
UID:10016837-1763596800-1763683199@www.hbfaaa.org
SUMMARY:Bible Study 11:00 am
DESCRIPTION:
URL:https://www.hbfaaa.org/event/bible-study-1100-am-9/2025-11-20/
CATEGORIES:Hopewell Senior Center
END:VEVENT
BEGIN:VEVENT
DTSTART;VALUE=DATE:20251121
DTEND;VALUE=DATE:20251122
DTSTAMP:20260425T081438
CREATED:20251029T174612Z
LAST-MODIFIED:20251029T174612Z
UID:10016843-1763683200-1763769599@www.hbfaaa.org
SUMMARY:In House Meal 12:00 pm
DESCRIPTION:
URL:https://www.hbfaaa.org/event/in-house-meal-1200-pm-18/2025-11-21/
CATEGORIES:Hopewell Senior Center
END:VEVENT
BEGIN:VEVENT
DTSTART;VALUE=DATE:20251124
DTEND;VALUE=DATE:20251125
DTSTAMP:20260425T081438
CREATED:20251029T173655Z
LAST-MODIFIED:20251029T173655Z
UID:10016825-1763942400-1764028799@www.hbfaaa.org
SUMMARY:Bingo - 9:00 am
DESCRIPTION:
URL:https://www.hbfaaa.org/event/bingo-900-am-14/2025-11-24/
CATEGORIES:Hopewell Senior Center
END:VEVENT
BEGIN:VEVENT
DTSTART;VALUE=DATE:20251124
DTEND;VALUE=DATE:20251125
DTSTAMP:20260425T081438
CREATED:20251029T173812Z
LAST-MODIFIED:20251029T173812Z
UID:10016827-1763942400-1764028799@www.hbfaaa.org
SUMMARY:Nutrition Program 11:00 am
DESCRIPTION:
URL:https://www.hbfaaa.org/event/nutrition-program-1100-am-2/
CATEGORIES:Hopewell Senior Center
END:VEVENT
BEGIN:VEVENT
DTSTART;VALUE=DATE:20251126
DTEND;VALUE=DATE:20251127
DTSTAMP:20260425T081438
CREATED:20251029T173655Z
LAST-MODIFIED:20251029T173655Z
UID:10016826-1764115200-1764201599@www.hbfaaa.org
SUMMARY:Bingo - 9:00 am
DESCRIPTION:
URL:https://www.hbfaaa.org/event/bingo-900-am-14/2025-11-26/
CATEGORIES:Hopewell Senior Center
END:VEVENT
BEGIN:VEVENT
DTSTART;VALUE=DATE:20251127
DTEND;VALUE=DATE:20251129
DTSTAMP:20260425T081438
CREATED:20251029T174345Z
LAST-MODIFIED:20251029T174345Z
UID:10016834-1764201600-1764374399@www.hbfaaa.org
SUMMARY:Center Closed
DESCRIPTION:
URL:https://www.hbfaaa.org/event/center-closed-16/
CATEGORIES:Hopewell Senior Center
END:VEVENT
END:VCALENDAR