BEGIN:VCALENDAR
VERSION:2.0
PRODID:-//HBFAAA - ECPv6.15.20//NONSGML v1.0//EN
CALSCALE:GREGORIAN
METHOD:PUBLISH
X-WR-CALNAME:HBFAAA
X-ORIGINAL-URL:https://www.hbfaaa.org
X-WR-CALDESC:Events for HBFAAA
REFRESH-INTERVAL;VALUE=DURATION:PT1H
X-Robots-Tag:noindex
X-PUBLISHED-TTL:PT1H
BEGIN:VTIMEZONE
TZID:America/New_York
BEGIN:DAYLIGHT
TZOFFSETFROM:-0500
TZOFFSETTO:-0400
TZNAME:EDT
DTSTART:20250309T070000
END:DAYLIGHT
BEGIN:STANDARD
TZOFFSETFROM:-0400
TZOFFSETTO:-0500
TZNAME:EST
DTSTART:20251102T060000
END:STANDARD
BEGIN:DAYLIGHT
TZOFFSETFROM:-0500
TZOFFSETTO:-0400
TZNAME:EDT
DTSTART:20260308T070000
END:DAYLIGHT
BEGIN:STANDARD
TZOFFSETFROM:-0400
TZOFFSETTO:-0500
TZNAME:EST
DTSTART:20261101T060000
END:STANDARD
BEGIN:DAYLIGHT
TZOFFSETFROM:-0500
TZOFFSETTO:-0400
TZNAME:EDT
DTSTART:20270314T070000
END:DAYLIGHT
BEGIN:STANDARD
TZOFFSETFROM:-0400
TZOFFSETTO:-0500
TZNAME:EST
DTSTART:20271107T060000
END:STANDARD
END:VTIMEZONE
BEGIN:VEVENT
DTSTART;VALUE=DATE:20260424
DTEND;VALUE=DATE:20260425
DTSTAMP:20260425T144510
CREATED:20260410T140446Z
LAST-MODIFIED:20260410T140446Z
UID:10018197-1776988800-1777075199@www.hbfaaa.org
SUMMARY:Canvas Painting @10 am In House Meal
DESCRIPTION:
URL:https://www.hbfaaa.org/event/canvas-painting-10-am-in-house-meal-3/2026-04-24/
CATEGORIES:Three Springs Senior Center
END:VEVENT
BEGIN:VEVENT
DTSTART;VALUE=DATE:20260423
DTEND;VALUE=DATE:20260424
DTSTAMP:20260425T144510
CREATED:20260410T140233Z
LAST-MODIFIED:20260410T140233Z
UID:10018194-1776902400-1776988799@www.hbfaaa.org
SUMMARY:Activity Table @ 10 am
DESCRIPTION:
URL:https://www.hbfaaa.org/event/activity-table-10-am-2/
CATEGORIES:Three Springs Senior Center
END:VEVENT
BEGIN:VEVENT
DTSTART;VALUE=DATE:20260422
DTEND;VALUE=DATE:20260423
DTSTAMP:20260425T144510
CREATED:20260410T135732Z
LAST-MODIFIED:20260410T135732Z
UID:10018189-1776816000-1776902399@www.hbfaaa.org
SUMMARY:Craft @10 am
DESCRIPTION:
URL:https://www.hbfaaa.org/event/craft-10-am-9/
CATEGORIES:Three Springs Senior Center
END:VEVENT
BEGIN:VEVENT
DTSTART;VALUE=DATE:20260421
DTEND;VALUE=DATE:20260422
DTSTAMP:20260425T144510
CREATED:20260410T135057Z
LAST-MODIFIED:20260410T135057Z
UID:10018185-1776729600-1776815999@www.hbfaaa.org
SUMMARY:Corn Hole @10 am
DESCRIPTION:
URL:https://www.hbfaaa.org/event/corn-hole-10-am-2/
CATEGORIES:Three Springs Senior Center
END:VEVENT
BEGIN:VEVENT
DTSTART;VALUE=DATE:20260420
DTEND;VALUE=DATE:20260421
DTSTAMP:20260425T144510
CREATED:20260410T134738Z
LAST-MODIFIED:20260410T134738Z
UID:10018181-1776643200-1776729599@www.hbfaaa.org
SUMMARY:Bingo @ 10 am
DESCRIPTION:
URL:https://www.hbfaaa.org/event/bingo-10-am-29/
CATEGORIES:Three Springs Senior Center
END:VEVENT
BEGIN:VEVENT
DTSTART;VALUE=DATE:20260417
DTEND;VALUE=DATE:20260418
DTSTAMP:20260425T144510
CREATED:20260410T140446Z
LAST-MODIFIED:20260410T140446Z
UID:10018196-1776384000-1776470399@www.hbfaaa.org
SUMMARY:Canvas Painting @10 am In House Meal
DESCRIPTION:
URL:https://www.hbfaaa.org/event/canvas-painting-10-am-in-house-meal-3/2026-04-17/
CATEGORIES:Three Springs Senior Center
END:VEVENT
BEGIN:VEVENT
DTSTART;VALUE=DATE:20260416
DTEND;VALUE=DATE:20260417
DTSTAMP:20260425T144510
CREATED:20260410T140221Z
LAST-MODIFIED:20260410T140221Z
UID:10018193-1776297600-1776383999@www.hbfaaa.org
SUMMARY:Hunt Co Sr Expo @ Smithfield Firehall 10am - 1pm Sign up by 4/13 if interested
DESCRIPTION:
URL:https://www.hbfaaa.org/event/hunt-co-sr-expo-smithfield-firehall-10am-1pm-sign-up-by-4-13-if-interested/
CATEGORIES:Three Springs Senior Center
END:VEVENT
BEGIN:VEVENT
DTSTART;VALUE=DATE:20260415
DTEND;VALUE=DATE:20260416
DTSTAMP:20260425T144510
CREATED:20260410T135720Z
LAST-MODIFIED:20260410T135720Z
UID:10018188-1776211200-1776297599@www.hbfaaa.org
SUMMARY:Bingo @10 am
DESCRIPTION:
URL:https://www.hbfaaa.org/event/bingo-10-am-31/
CATEGORIES:Three Springs Senior Center
END:VEVENT
BEGIN:VEVENT
DTSTART;VALUE=DATE:20260414
DTEND;VALUE=DATE:20260415
DTSTAMP:20260425T144510
CREATED:20260410T135051Z
LAST-MODIFIED:20260410T135051Z
UID:10018184-1776124800-1776211199@www.hbfaaa.org
SUMMARY:Air Hockey @10 am
DESCRIPTION:
URL:https://www.hbfaaa.org/event/air-hockey-10-am/
CATEGORIES:Three Springs Senior Center
END:VEVENT
BEGIN:VEVENT
DTSTART;VALUE=DATE:20260413
DTEND;VALUE=DATE:20260414
DTSTAMP:20260425T144510
CREATED:20260410T134723Z
LAST-MODIFIED:20260410T134723Z
UID:10018180-1776038400-1776124799@www.hbfaaa.org
SUMMARY:Trip to Church
DESCRIPTION:
URL:https://www.hbfaaa.org/event/trip-to-church/
CATEGORIES:Three Springs Senior Center
END:VEVENT
BEGIN:VEVENT
DTSTART;VALUE=DATE:20260410
DTEND;VALUE=DATE:20260411
DTSTAMP:20260425T144510
CREATED:20260410T140253Z
LAST-MODIFIED:20260410T140253Z
UID:10018195-1775779200-1775865599@www.hbfaaa.org
SUMMARY:Trip - Details & Sign up @center
DESCRIPTION:
URL:https://www.hbfaaa.org/event/trip-details-sign-up-center-3/
CATEGORIES:Three Springs Senior Center
END:VEVENT
BEGIN:VEVENT
DTSTART;VALUE=DATE:20260409
DTEND;VALUE=DATE:20260410
DTSTAMP:20260425T144510
CREATED:20260410T140143Z
LAST-MODIFIED:20260410T140143Z
UID:10018192-1775692800-1775779199@www.hbfaaa.org
SUMMARY:Activity Table @ 10 am
DESCRIPTION:
URL:https://www.hbfaaa.org/event/activity-table-10-am/
CATEGORIES:Three Springs Senior Center
END:VEVENT
BEGIN:VEVENT
DTSTART;VALUE=DATE:20260408
DTEND;VALUE=DATE:20260409
DTSTAMP:20260425T144510
CREATED:20260410T135228Z
LAST-MODIFIED:20260410T135228Z
UID:10018187-1775606400-1775692799@www.hbfaaa.org
SUMMARY:Nutrition Class @10 am
DESCRIPTION:
URL:https://www.hbfaaa.org/event/nutrition-class-10-am-12/
CATEGORIES:Three Springs Senior Center
END:VEVENT
BEGIN:VEVENT
DTSTART;VALUE=DATE:20260407
DTEND;VALUE=DATE:20260408
DTSTAMP:20260425T144510
CREATED:20260410T134913Z
LAST-MODIFIED:20260410T134913Z
UID:10018183-1775520000-1775606399@www.hbfaaa.org
SUMMARY:Corn Hole @10 am
DESCRIPTION:
URL:https://www.hbfaaa.org/event/corn-hole-10-am/
CATEGORIES:Three Springs Senior Center
END:VEVENT
BEGIN:VEVENT
DTSTART;VALUE=DATE:20260406
DTEND;VALUE=DATE:20260407
DTSTAMP:20260425T144510
CREATED:20260410T134310Z
LAST-MODIFIED:20260410T134310Z
UID:10018179-1775433600-1775519999@www.hbfaaa.org
SUMMARY:Live Music w/KAR Music Box @ 10 am - Please plan to attend. Will be a Great time!
DESCRIPTION:
URL:https://www.hbfaaa.org/event/live-music-w-kar-music-box-10-am-please-plan-to-attend-will-be-a-great-time/
CATEGORIES:Three Springs Senior Center
END:VEVENT
BEGIN:VEVENT
DTSTART;VALUE=DATE:20260402
DTEND;VALUE=DATE:20260403
DTSTAMP:20260425T144510
CREATED:20260410T140022Z
LAST-MODIFIED:20260410T140022Z
UID:10018191-1775088000-1775174399@www.hbfaaa.org
SUMMARY:Board Members Meeting @9:30 am Members Meeting @10 am
DESCRIPTION:
URL:https://www.hbfaaa.org/event/board-members-meeting-930-am-members-meeting-10-am-8/
CATEGORIES:Three Springs Senior Center
END:VEVENT
BEGIN:VEVENT
DTSTART;VALUE=DATE:20260130
DTEND;VALUE=DATE:20260131
DTSTAMP:20260425T144510
CREATED:20260114T190757Z
LAST-MODIFIED:20260114T190757Z
UID:10017350-1769731200-1769817599@www.hbfaaa.org
SUMMARY:Bingo @ 10 am
DESCRIPTION:
URL:https://www.hbfaaa.org/event/bingo-10-am-26/
CATEGORIES:Three Springs Senior Center
END:VEVENT
BEGIN:VEVENT
DTSTART;VALUE=DATE:20260129
DTEND;VALUE=DATE:20260130
DTSTAMP:20260425T144510
CREATED:20260114T190607Z
LAST-MODIFIED:20260114T190607Z
UID:10017345-1769644800-1769731199@www.hbfaaa.org
SUMMARY:Guess Who? Game - Senior Edition @ 10 am
DESCRIPTION:
URL:https://www.hbfaaa.org/event/guess-who-game-senior-edition-10-am/
CATEGORIES:Three Springs Senior Center
END:VEVENT
BEGIN:VEVENT
DTSTART;VALUE=DATE:20260128
DTEND;VALUE=DATE:20260129
DTSTAMP:20260425T144510
CREATED:20260114T190225Z
LAST-MODIFIED:20260114T190225Z
UID:10017341-1769558400-1769644799@www.hbfaaa.org
SUMMARY:Trip to Bricktown for Line Dancing
DESCRIPTION:
URL:https://www.hbfaaa.org/event/trip-to-bricktown-for-line-dancing/
CATEGORIES:Three Springs Senior Center
END:VEVENT
BEGIN:VEVENT
DTSTART;VALUE=DATE:20260127
DTEND;VALUE=DATE:20260128
DTSTAMP:20260425T144510
CREATED:20260114T190016Z
LAST-MODIFIED:20260114T190016Z
UID:10017337-1769472000-1769558399@www.hbfaaa.org
SUMMARY:Memory Tray Game @ 10 am
DESCRIPTION:
URL:https://www.hbfaaa.org/event/memory-tray-game-10-am/
CATEGORIES:Three Springs Senior Center
END:VEVENT
BEGIN:VEVENT
DTSTART;VALUE=DATE:20260126
DTEND;VALUE=DATE:20260127
DTSTAMP:20260425T144510
CREATED:20260114T185324Z
LAST-MODIFIED:20260114T185324Z
UID:10017333-1769385600-1769471999@www.hbfaaa.org
SUMMARY:Exercise W/ Gary @ 9:30 am
DESCRIPTION:
URL:https://www.hbfaaa.org/event/exercise-w-gary-930-am-9/
CATEGORIES:Three Springs Senior Center
END:VEVENT
BEGIN:VEVENT
DTSTART;VALUE=DATE:20260123
DTEND;VALUE=DATE:20260124
DTSTAMP:20260425T144510
CREATED:20260114T190745Z
LAST-MODIFIED:20260114T190745Z
UID:10017349-1769126400-1769212799@www.hbfaaa.org
SUMMARY:Craft @ 10 am
DESCRIPTION:
URL:https://www.hbfaaa.org/event/craft-10-am-7/
CATEGORIES:Three Springs Senior Center
END:VEVENT
BEGIN:VEVENT
DTSTART;VALUE=DATE:20260122
DTEND;VALUE=DATE:20260123
DTSTAMP:20260425T144510
CREATED:20260114T190544Z
LAST-MODIFIED:20260114T190544Z
UID:10017344-1769040000-1769126399@www.hbfaaa.org
SUMMARY:Cocoa - Cola Floats @ 10 am
DESCRIPTION:
URL:https://www.hbfaaa.org/event/cocoa-cola-floats-10-am/
CATEGORIES:Three Springs Senior Center
END:VEVENT
BEGIN:VEVENT
DTSTART;VALUE=DATE:20260121
DTEND;VALUE=DATE:20260122
DTSTAMP:20260425T144510
CREATED:20260114T190209Z
LAST-MODIFIED:20260114T190209Z
UID:10017340-1768953600-1769039999@www.hbfaaa.org
SUMMARY:Bingo @ 10 am
DESCRIPTION:
URL:https://www.hbfaaa.org/event/bingo-10-am-24/
CATEGORIES:Three Springs Senior Center
END:VEVENT
BEGIN:VEVENT
DTSTART;VALUE=DATE:20260120
DTEND;VALUE=DATE:20260121
DTSTAMP:20260425T144510
CREATED:20260114T185954Z
LAST-MODIFIED:20260114T185954Z
UID:10017336-1768867200-1768953599@www.hbfaaa.org
SUMMARY:National Cheese Lovers Day Come in @ 10 am and enjoy cheese crackers
DESCRIPTION:
URL:https://www.hbfaaa.org/event/national-cheese-lovers-day-come-in-10-am-and-enjoy-cheese-crackers/
CATEGORIES:Three Springs Senior Center
END:VEVENT
BEGIN:VEVENT
DTSTART;VALUE=DATE:20260119
DTEND;VALUE=DATE:20260120
DTSTAMP:20260425T144510
CREATED:20260114T185317Z
LAST-MODIFIED:20260114T185317Z
UID:10017332-1768780800-1768867199@www.hbfaaa.org
SUMMARY:Closed for MLK Jr Day
DESCRIPTION:
URL:https://www.hbfaaa.org/event/closed-for-mlk-jr-day/
CATEGORIES:Three Springs Senior Center
END:VEVENT
BEGIN:VEVENT
DTSTART;VALUE=DATE:20260116
DTEND;VALUE=DATE:20260117
DTSTAMP:20260425T144510
CREATED:20260114T190736Z
LAST-MODIFIED:20260114T190736Z
UID:10017348-1768521600-1768607999@www.hbfaaa.org
SUMMARY:Bingo @ 10 am
DESCRIPTION:
URL:https://www.hbfaaa.org/event/bingo-10-am-25/
CATEGORIES:Three Springs Senior Center
END:VEVENT
BEGIN:VEVENT
DTSTART;VALUE=DATE:20260115
DTEND;VALUE=DATE:20260116
DTSTAMP:20260425T144510
CREATED:20260114T190527Z
LAST-MODIFIED:20260114T190527Z
UID:10017343-1768435200-1768521599@www.hbfaaa.org
SUMMARY:Hot Cocoa Bar @ 9:30 am
DESCRIPTION:
URL:https://www.hbfaaa.org/event/hot-cocoa-bar-930-am/
CATEGORIES:Three Springs Senior Center
END:VEVENT
BEGIN:VEVENT
DTSTART;VALUE=DATE:20260114
DTEND;VALUE=DATE:20260115
DTSTAMP:20260425T144510
CREATED:20260114T190201Z
LAST-MODIFIED:20260114T190201Z
UID:10017339-1768348800-1768435199@www.hbfaaa.org
SUMMARY:Nutrition Class @ 10 am
DESCRIPTION:
URL:https://www.hbfaaa.org/event/nutrition-class-10-am-8/
CATEGORIES:Three Springs Senior Center
END:VEVENT
BEGIN:VEVENT
DTSTART;VALUE=DATE:20260113
DTEND;VALUE=DATE:20260114
DTSTAMP:20260425T144510
CREATED:20260114T185841Z
LAST-MODIFIED:20260114T185841Z
UID:10017335-1768262400-1768348799@www.hbfaaa.org
SUMMARY:Trivia @ 10:30 am
DESCRIPTION:
URL:https://www.hbfaaa.org/event/trivia-1030-am/
CATEGORIES:Three Springs Senior Center
END:VEVENT
END:VCALENDAR