BEGIN:VCALENDAR
VERSION:2.0
PRODID:-//HBFAAA - ECPv6.15.20//NONSGML v1.0//EN
CALSCALE:GREGORIAN
METHOD:PUBLISH
X-ORIGINAL-URL:https://www.hbfaaa.org
X-WR-CALDESC:Events for HBFAAA
REFRESH-INTERVAL;VALUE=DURATION:PT1H
X-Robots-Tag:noindex
X-PUBLISHED-TTL:PT1H
BEGIN:VTIMEZONE
TZID:America/New_York
BEGIN:DAYLIGHT
TZOFFSETFROM:-0500
TZOFFSETTO:-0400
TZNAME:EDT
DTSTART:20180311T070000
END:DAYLIGHT
BEGIN:STANDARD
TZOFFSETFROM:-0400
TZOFFSETTO:-0500
TZNAME:EST
DTSTART:20181104T060000
END:STANDARD
BEGIN:DAYLIGHT
TZOFFSETFROM:-0500
TZOFFSETTO:-0400
TZNAME:EDT
DTSTART:20190310T070000
END:DAYLIGHT
BEGIN:STANDARD
TZOFFSETFROM:-0400
TZOFFSETTO:-0500
TZNAME:EST
DTSTART:20191103T060000
END:STANDARD
BEGIN:DAYLIGHT
TZOFFSETFROM:-0500
TZOFFSETTO:-0400
TZNAME:EDT
DTSTART:20200308T070000
END:DAYLIGHT
BEGIN:STANDARD
TZOFFSETFROM:-0400
TZOFFSETTO:-0500
TZNAME:EST
DTSTART:20201101T060000
END:STANDARD
END:VTIMEZONE
BEGIN:VEVENT
DTSTART;VALUE=DATE:20191129
DTEND;VALUE=DATE:20191130
DTSTAMP:20260423T094941
CREATED:20191023T180308Z
LAST-MODIFIED:20191023T180308Z
UID:10001105-1574985600-1575071999@www.hbfaaa.org
SUMMARY:CLOSED: BLACK FRIDAY
DESCRIPTION:
URL:https://www.hbfaaa.org/event/closed-black-friday-2/
LOCATION:Three Springs Senior Center\, 21338 Church Street\, Three Springs\, PA\, 17264\, United States
CATEGORIES:Three Springs Senior Center
END:VEVENT
BEGIN:VEVENT
DTSTART;VALUE=DATE:20191128
DTEND;VALUE=DATE:20191129
DTSTAMP:20260423T094941
CREATED:20191023T180239Z
LAST-MODIFIED:20191023T180239Z
UID:10001104-1574899200-1574985599@www.hbfaaa.org
SUMMARY:CLOSED: THANKSGIVING DAY
DESCRIPTION:
URL:https://www.hbfaaa.org/event/closed-thanksgiving-day/
LOCATION:Three Springs Senior Center\, 21338 Church Street\, Three Springs\, PA\, 17264\, United States
CATEGORIES:Three Springs Senior Center
END:VEVENT
BEGIN:VEVENT
DTSTART;TZID=America/New_York:20191126T100000
DTEND;TZID=America/New_York:20191126T110000
DTSTAMP:20260423T094941
CREATED:20191023T180204Z
LAST-MODIFIED:20191023T180204Z
UID:10000477-1574762400-1574766000@www.hbfaaa.org
SUMMARY:Snowman Craft (Sign up at Center!)
DESCRIPTION:
URL:https://www.hbfaaa.org/event/snowman-craft-sign-up-at-center/
LOCATION:Three Springs Senior Center\, 21338 Church Street\, Three Springs\, PA\, 17264\, United States
CATEGORIES:Three Springs Senior Center
END:VEVENT
BEGIN:VEVENT
DTSTART;TZID=America/New_York:20191125T090000
DTEND;TZID=America/New_York:20191125T100000
DTSTAMP:20260423T094941
CREATED:20191023T175301Z
LAST-MODIFIED:20191023T175301Z
UID:10001103-1574672400-1574676000@www.hbfaaa.org
SUMMARY:Bible Study
DESCRIPTION:
URL:https://www.hbfaaa.org/event/bible-study-13/2019-11-25/
LOCATION:Three Springs Senior Center\, 21338 Church Street\, Three Springs\, PA\, 17264\, United States
CATEGORIES:Three Springs Senior Center
END:VEVENT
BEGIN:VEVENT
DTSTART;TZID=America/New_York:20191122T100000
DTEND;TZID=America/New_York:20191122T110000
DTSTAMP:20260423T094941
CREATED:20191023T180042Z
LAST-MODIFIED:20191023T180042Z
UID:10000476-1574416800-1574420400@www.hbfaaa.org
SUMMARY:Bingo
DESCRIPTION:
URL:https://www.hbfaaa.org/event/bingo-32/
LOCATION:Three Springs Senior Center\, 21338 Church Street\, Three Springs\, PA\, 17264\, United States
CATEGORIES:Three Springs Senior Center
END:VEVENT
BEGIN:VEVENT
DTSTART;TZID=America/New_York:20191120T103000
DTEND;TZID=America/New_York:20191120T113000
DTSTAMP:20260423T094941
CREATED:20191023T180012Z
LAST-MODIFIED:20191023T180012Z
UID:10000475-1574245800-1574249400@www.hbfaaa.org
SUMMARY:Nutrition Awareness Class
DESCRIPTION:
URL:https://www.hbfaaa.org/event/nutrition-awareness-class-2/
LOCATION:Three Springs Senior Center\, 21338 Church Street\, Three Springs\, PA\, 17264\, United States
CATEGORIES:Three Springs Senior Center
END:VEVENT
BEGIN:VEVENT
DTSTART;VALUE=DATE:20191119
DTEND;VALUE=DATE:20191120
DTSTAMP:20260423T094941
CREATED:20191023T175942Z
LAST-MODIFIED:20191023T175942Z
UID:10000474-1574121600-1574207999@www.hbfaaa.org
SUMMARY:Shopping Trip (Sign up at Center!)
DESCRIPTION:
URL:https://www.hbfaaa.org/event/shopping-trip-sign-up-at-center/
LOCATION:Three Springs Senior Center\, 21338 Church Street\, Three Springs\, PA\, 17264\, United States
CATEGORIES:Three Springs Senior Center
END:VEVENT
BEGIN:VEVENT
DTSTART;TZID=America/New_York:20191118T090000
DTEND;TZID=America/New_York:20191118T100000
DTSTAMP:20260423T094941
CREATED:20191023T175301Z
LAST-MODIFIED:20191023T175301Z
UID:10001102-1574067600-1574071200@www.hbfaaa.org
SUMMARY:Bible Study
DESCRIPTION:
URL:https://www.hbfaaa.org/event/bible-study-13/2019-11-18/
LOCATION:Three Springs Senior Center\, 21338 Church Street\, Three Springs\, PA\, 17264\, United States
CATEGORIES:Three Springs Senior Center
END:VEVENT
BEGIN:VEVENT
DTSTART;TZID=America/New_York:20191115T110000
DTEND;TZID=America/New_York:20191115T113000
DTSTAMP:20260423T094941
CREATED:20191023T175914Z
LAST-MODIFIED:20191023T175914Z
UID:10000472-1573815600-1573817400@www.hbfaaa.org
SUMMARY:FCMC/Christie Seated Chair Exercises
DESCRIPTION:
URL:https://www.hbfaaa.org/event/fcmc-christie-seated-chair-exercises/
LOCATION:Three Springs Senior Center\, 21338 Church Street\, Three Springs\, PA\, 17264\, United States
CATEGORIES:Three Springs Senior Center
END:VEVENT
BEGIN:VEVENT
DTSTART;TZID=America/New_York:20191114T100000
DTEND;TZID=America/New_York:20191114T110000
DTSTAMP:20260423T094941
CREATED:20191023T175829Z
LAST-MODIFIED:20191023T175829Z
UID:10000470-1573725600-1573729200@www.hbfaaa.org
SUMMARY:Bingo
DESCRIPTION:
URL:https://www.hbfaaa.org/event/bingo-31/
LOCATION:Three Springs Senior Center\, 21338 Church Street\, Three Springs\, PA\, 17264\, United States
CATEGORIES:Three Springs Senior Center
END:VEVENT
BEGIN:VEVENT
DTSTART;TZID=America/New_York:20191113T103000
DTEND;TZID=America/New_York:20191113T113000
DTSTAMP:20260423T094941
CREATED:20191023T175757Z
LAST-MODIFIED:20191023T175757Z
UID:10000463-1573641000-1573644600@www.hbfaaa.org
SUMMARY:Red Cross Presentation: Disaster Relief
DESCRIPTION:
URL:https://www.hbfaaa.org/event/red-cross-presentation-disaster-relief/
LOCATION:Three Springs Senior Center\, 21338 Church Street\, Three Springs\, PA\, 17264\, United States
CATEGORIES:Three Springs Senior Center
END:VEVENT
BEGIN:VEVENT
DTSTART;VALUE=DATE:20191112
DTEND;VALUE=DATE:20191113
DTSTAMP:20260423T094941
CREATED:20191023T175705Z
LAST-MODIFIED:20191023T175705Z
UID:10000461-1573516800-1573603199@www.hbfaaa.org
SUMMARY:Trip to Living Water Church (Sign up at Center!)
DESCRIPTION:
URL:https://www.hbfaaa.org/event/trip-to-living-water-church-sign-up-at-center/
LOCATION:Three Springs Senior Center\, 21338 Church Street\, Three Springs\, PA\, 17264\, United States
CATEGORIES:Three Springs Senior Center
END:VEVENT
BEGIN:VEVENT
DTSTART;VALUE=DATE:20191108
DTEND;VALUE=DATE:20191109
DTSTAMP:20260423T094941
CREATED:20191023T175631Z
LAST-MODIFIED:20191023T175631Z
UID:10000459-1573171200-1573257599@www.hbfaaa.org
SUMMARY:Medicare Open Enrollment/Changes at Bricktown Senior Center
DESCRIPTION:Call 542-2865 to schedule an appointment prior to November 8th.
URL:https://www.hbfaaa.org/event/medicare-open-enrollment-changes-at-bricktown-senior-center/
LOCATION:Three Springs Senior Center\, 21338 Church Street\, Three Springs\, PA\, 17264\, United States
CATEGORIES:Three Springs Senior Center
END:VEVENT
BEGIN:VEVENT
DTSTART;TZID=America/New_York:20191107T110000
DTEND;TZID=America/New_York:20191107T120000
DTSTAMP:20260423T094941
CREATED:20191023T175429Z
LAST-MODIFIED:20191023T175429Z
UID:10000457-1573124400-1573128000@www.hbfaaa.org
SUMMARY:UPMC Blood Pressure Check
DESCRIPTION:
URL:https://www.hbfaaa.org/event/upmc-blood-pressure-check/
LOCATION:Three Springs Senior Center\, 21338 Church Street\, Three Springs\, PA\, 17264\, United States
CATEGORIES:Three Springs Senior Center
END:VEVENT
BEGIN:VEVENT
DTSTART;TZID=America/New_York:20191104T090000
DTEND;TZID=America/New_York:20191104T100000
DTSTAMP:20260423T094941
CREATED:20191023T175301Z
LAST-MODIFIED:20191023T175301Z
UID:10001101-1572858000-1572861600@www.hbfaaa.org
SUMMARY:Bible Study
DESCRIPTION:
URL:https://www.hbfaaa.org/event/bible-study-13/2019-11-04/
LOCATION:Three Springs Senior Center\, 21338 Church Street\, Three Springs\, PA\, 17264\, United States
CATEGORIES:Three Springs Senior Center
END:VEVENT
BEGIN:VEVENT
DTSTART;TZID=America/New_York:20191101T103000
DTEND;TZID=America/New_York:20191101T113000
DTSTAMP:20260423T094941
CREATED:20191023T175022Z
LAST-MODIFIED:20191023T175022Z
UID:10001100-1572604200-1572607800@www.hbfaaa.org
SUMMARY:Music by Tom Cohenour
DESCRIPTION:
URL:https://www.hbfaaa.org/event/music-by-tom-cohenour/
LOCATION:Three Springs Senior Center\, 21338 Church Street\, Three Springs\, PA\, 17264\, United States
CATEGORIES:Three Springs Senior Center
END:VEVENT
END:VCALENDAR